BEGIN:VCALENDAR
VERSION:2.0
PRODID:-//Project Response, Inc - ECPv6.15.20//NONSGML v1.0//EN
CALSCALE:GREGORIAN
METHOD:PUBLISH
X-WR-CALNAME:Project Response, Inc
X-ORIGINAL-URL:https://projectresponse.org
X-WR-CALDESC:Events for Project Response, Inc
REFRESH-INTERVAL;VALUE=DURATION:PT1H
X-Robots-Tag:noindex
X-PUBLISHED-TTL:PT1H
BEGIN:VTIMEZONE
TZID:America/New_York
BEGIN:DAYLIGHT
TZOFFSETFROM:-0500
TZOFFSETTO:-0400
TZNAME:EDT
DTSTART:20230312T070000
END:DAYLIGHT
BEGIN:STANDARD
TZOFFSETFROM:-0400
TZOFFSETTO:-0500
TZNAME:EST
DTSTART:20231105T060000
END:STANDARD
BEGIN:DAYLIGHT
TZOFFSETFROM:-0500
TZOFFSETTO:-0400
TZNAME:EDT
DTSTART:20240310T070000
END:DAYLIGHT
BEGIN:STANDARD
TZOFFSETFROM:-0400
TZOFFSETTO:-0500
TZNAME:EST
DTSTART:20241103T060000
END:STANDARD
BEGIN:DAYLIGHT
TZOFFSETFROM:-0500
TZOFFSETTO:-0400
TZNAME:EDT
DTSTART:20250309T070000
END:DAYLIGHT
BEGIN:STANDARD
TZOFFSETFROM:-0400
TZOFFSETTO:-0500
TZNAME:EST
DTSTART:20251102T060000
END:STANDARD
END:VTIMEZONE
BEGIN:VEVENT
DTSTART;TZID=America/New_York:20240514T180000
DTEND;TZID=America/New_York:20240514T200000
DTSTAMP:20260422T154430
CREATED:20240215T145933Z
LAST-MODIFIED:20240215T145933Z
UID:10280-1715709600-1715716800@projectresponse.org
SUMMARY:Support Group: “WE ARE ONE” HIV Positive Men’s support group
DESCRIPTION:HIV Positive Men’s support group
URL:https://projectresponse.org/event/support-group-we-are-one-hiv-positive-mens-support-group-11/
LOCATION:Project Response\, 745 S Apollo Blvd\, Melbourne\, 32901
CATEGORIES:Support Group
END:VEVENT
BEGIN:VEVENT
DTSTART;TZID=America/New_York:20240507T180000
DTEND;TZID=America/New_York:20240507T200000
DTSTAMP:20260422T154430
CREATED:20240215T145933Z
LAST-MODIFIED:20240215T145933Z
UID:10279-1715104800-1715112000@projectresponse.org
SUMMARY:Support Group: “WE ARE ONE” HIV Positive Men’s support group
DESCRIPTION:HIV Positive Men’s support group
URL:https://projectresponse.org/event/support-group-we-are-one-hiv-positive-mens-support-group-10/
LOCATION:Project Response\, 745 S Apollo Blvd\, Melbourne\, 32901
CATEGORIES:Support Group
END:VEVENT
BEGIN:VEVENT
DTSTART;TZID=America/New_York:20240430T180000
DTEND;TZID=America/New_York:20240430T200000
DTSTAMP:20260422T154430
CREATED:20240215T145929Z
LAST-MODIFIED:20240215T145929Z
UID:10278-1714500000-1714507200@projectresponse.org
SUMMARY:Support Group: “WE ARE ONE” HIV Positive Men’s support group
DESCRIPTION:HIV Positive Men’s support group
URL:https://projectresponse.org/event/support-group-we-are-one-hiv-positive-mens-support-group-9/
LOCATION:Project Response\, 745 S Apollo Blvd\, Melbourne\, 32901
CATEGORIES:Support Group
END:VEVENT
BEGIN:VEVENT
DTSTART;TZID=America/New_York:20240423T180000
DTEND;TZID=America/New_York:20240423T200000
DTSTAMP:20260422T154430
CREATED:20240215T145928Z
LAST-MODIFIED:20240215T145928Z
UID:10277-1713895200-1713902400@projectresponse.org
SUMMARY:Support Group: “WE ARE ONE” HIV Positive Men’s support group
DESCRIPTION:HIV Positive Men’s support group
URL:https://projectresponse.org/event/support-group-we-are-one-hiv-positive-mens-support-group-8/
LOCATION:Project Response\, 745 S Apollo Blvd\, Melbourne\, 32901
CATEGORIES:Support Group
END:VEVENT
BEGIN:VEVENT
DTSTART;TZID=America/New_York:20240416T180000
DTEND;TZID=America/New_York:20240416T200000
DTSTAMP:20260422T154430
CREATED:20240215T145928Z
LAST-MODIFIED:20240215T145928Z
UID:10276-1713290400-1713297600@projectresponse.org
SUMMARY:Support Group: “WE ARE ONE” HIV Positive Men’s support group
DESCRIPTION:HIV Positive Men’s support group
URL:https://projectresponse.org/event/support-group-we-are-one-hiv-positive-mens-support-group-7/
LOCATION:Project Response\, 745 S Apollo Blvd\, Melbourne\, 32901
CATEGORIES:Support Group
END:VEVENT
BEGIN:VEVENT
DTSTART;TZID=America/New_York:20240409T180000
DTEND;TZID=America/New_York:20240409T200000
DTSTAMP:20260422T154430
CREATED:20240215T145927Z
LAST-MODIFIED:20240215T145927Z
UID:10275-1712685600-1712692800@projectresponse.org
SUMMARY:Support Group: “WE ARE ONE” HIV Positive Men’s support group
DESCRIPTION:HIV Positive Men’s support group
URL:https://projectresponse.org/event/support-group-we-are-one-hiv-positive-mens-support-group-6/
LOCATION:Project Response\, 745 S Apollo Blvd\, Melbourne\, 32901
CATEGORIES:Support Group
END:VEVENT
BEGIN:VEVENT
DTSTART;TZID=America/New_York:20240402T180000
DTEND;TZID=America/New_York:20240402T200000
DTSTAMP:20260422T154430
CREATED:20240215T145927Z
LAST-MODIFIED:20240215T145927Z
UID:10274-1712080800-1712088000@projectresponse.org
SUMMARY:Support Group: “WE ARE ONE” HIV Positive Men’s support group
DESCRIPTION:HIV Positive Men’s support group
URL:https://projectresponse.org/event/support-group-we-are-one-hiv-positive-mens-support-group-5/
LOCATION:Project Response\, 745 S Apollo Blvd\, Melbourne\, 32901
CATEGORIES:Support Group
END:VEVENT
END:VCALENDAR