BEGIN:VCALENDAR
VERSION:2.0
PRODID:-//Project Response, Inc - ECPv6.15.20//NONSGML v1.0//EN
CALSCALE:GREGORIAN
METHOD:PUBLISH
X-ORIGINAL-URL:https://projectresponse.org
X-WR-CALDESC:Events for Project Response, Inc
REFRESH-INTERVAL;VALUE=DURATION:PT1H
X-Robots-Tag:noindex
X-PUBLISHED-TTL:PT1H
BEGIN:VTIMEZONE
TZID:America/New_York
BEGIN:DAYLIGHT
TZOFFSETFROM:-0500
TZOFFSETTO:-0400
TZNAME:EDT
DTSTART:20230312T070000
END:DAYLIGHT
BEGIN:STANDARD
TZOFFSETFROM:-0400
TZOFFSETTO:-0500
TZNAME:EST
DTSTART:20231105T060000
END:STANDARD
BEGIN:DAYLIGHT
TZOFFSETFROM:-0500
TZOFFSETTO:-0400
TZNAME:EDT
DTSTART:20240310T070000
END:DAYLIGHT
BEGIN:STANDARD
TZOFFSETFROM:-0400
TZOFFSETTO:-0500
TZNAME:EST
DTSTART:20241103T060000
END:STANDARD
BEGIN:DAYLIGHT
TZOFFSETFROM:-0500
TZOFFSETTO:-0400
TZNAME:EDT
DTSTART:20250309T070000
END:DAYLIGHT
BEGIN:STANDARD
TZOFFSETFROM:-0400
TZOFFSETTO:-0500
TZNAME:EST
DTSTART:20251102T060000
END:STANDARD
BEGIN:DAYLIGHT
TZOFFSETFROM:-0500
TZOFFSETTO:-0400
TZNAME:EDT
DTSTART:20260308T070000
END:DAYLIGHT
BEGIN:STANDARD
TZOFFSETFROM:-0400
TZOFFSETTO:-0500
TZNAME:EST
DTSTART:20261101T060000
END:STANDARD
END:VTIMEZONE
BEGIN:VEVENT
DTSTART;TZID=America/New_York:20251217T100000
DTEND;TZID=America/New_York:20251217T140000
DTSTAMP:20260422T154501
CREATED:20250611T155048Z
LAST-MODIFIED:20250611T155048Z
UID:12101-1765965600-1765980000@projectresponse.org
SUMMARY:FREE HIV & Hepatitis C Testing
DESCRIPTION:Palm Bay Pharmacy – 1270 Malabar Rd\, Ste #2\, Palm Bay\, FL 3290710:00 AM – 2:00 PM \nFree\, confidential HIV and Hepatitis C testing available on-site at Palm Bay Pharmacy. No insurance or appointment required. \nWalk-ins only.  \nStop by between 10 AM and 2 PM to know your status and take charge of your health.
URL:https://projectresponse.org/event/free-hiv-hepatitis-c-testing-6/
LOCATION:Palm Bay Pharmacy\, 1270 Malabar Rd\, Ste 2\, Palm Bay\, Florida\, 32907\, United States
CATEGORIES:Clinic,Testing
END:VEVENT
BEGIN:VEVENT
DTSTART;TZID=America/New_York:20251119T100000
DTEND;TZID=America/New_York:20251119T140000
DTSTAMP:20260422T154501
CREATED:20250611T154910Z
LAST-MODIFIED:20250611T154910Z
UID:12099-1763546400-1763560800@projectresponse.org
SUMMARY:FREE HIV & Hepatitis C Testing
DESCRIPTION:Palm Bay Pharmacy – 1270 Malabar Rd\, Ste #2\, Palm Bay\, FL 3290710:00 AM – 2:00 PM \nFree\, confidential HIV and Hepatitis C testing available on-site at Palm Bay Pharmacy. No insurance or appointment required. \nWalk-ins only.  \nStop by between 10 AM and 2 PM to know your status and take charge of your health.
URL:https://projectresponse.org/event/free-hiv-hepatitis-c-testing-5/
LOCATION:Palm Bay Pharmacy\, 1270 Malabar Rd\, Ste 2\, Palm Bay\, Florida\, 32907\, United States
CATEGORIES:Clinic,Testing
END:VEVENT
BEGIN:VEVENT
DTSTART;TZID=America/New_York:20251015T100000
DTEND;TZID=America/New_York:20251015T140000
DTSTAMP:20260422T154501
CREATED:20250611T154652Z
LAST-MODIFIED:20250611T154652Z
UID:12097-1760522400-1760536800@projectresponse.org
SUMMARY:FREE HIV & Hepatitis C Testing
DESCRIPTION:Palm Bay Pharmacy – 1270 Malabar Rd\, Ste #2\, Palm Bay\, FL 3290710:00 AM – 2:00 PM \nFree\, confidential HIV and Hepatitis C testing available on-site at Palm Bay Pharmacy. No insurance or appointment required. \nWalk-ins only.  \nStop by between 10 AM and 2 PM to know your status and take charge of your health.
URL:https://projectresponse.org/event/free-hiv-hepatitis-c-testing-4/
LOCATION:Palm Bay Pharmacy\, 1270 Malabar Rd\, Ste 2\, Palm Bay\, Florida\, 32907\, United States
CATEGORIES:Clinic,Testing
END:VEVENT
BEGIN:VEVENT
DTSTART;TZID=America/New_York:20250917T100000
DTEND;TZID=America/New_York:20250917T140000
DTSTAMP:20260422T154501
CREATED:20250611T154533Z
LAST-MODIFIED:20250611T154533Z
UID:12095-1758103200-1758117600@projectresponse.org
SUMMARY:FREE HIV & Hepatitis C Testing
DESCRIPTION:Palm Bay Pharmacy – 1270 Malabar Rd\, Ste #2\, Palm Bay\, FL 3290710:00 AM – 2:00 PM \nFree\, confidential HIV and Hepatitis C testing available on-site at Palm Bay Pharmacy. No insurance or appointment required. \nWalk-ins only.  \nStop by between 10 AM and 2 PM to know your status and take charge of your health.
URL:https://projectresponse.org/event/free-hiv-hepatitis-c-testing-3/
LOCATION:Palm Bay Pharmacy\, 1270 Malabar Rd\, Ste 2\, Palm Bay\, Florida\, 32907\, United States
CATEGORIES:Clinic,Testing
END:VEVENT
BEGIN:VEVENT
DTSTART;TZID=America/New_York:20250820T100000
DTEND;TZID=America/New_York:20250820T140000
DTSTAMP:20260422T154501
CREATED:20250611T154409Z
LAST-MODIFIED:20250611T154409Z
UID:12093-1755684000-1755698400@projectresponse.org
SUMMARY:FREE HIV & Hepatitis C Testing
DESCRIPTION:Palm Bay Pharmacy – 1270 Malabar Rd\, Ste #2\, Palm Bay\, FL 3290710:00 AM – 2:00 PM \nFree\, confidential HIV and Hepatitis C testing available on-site at Palm Bay Pharmacy. No insurance or appointment required. \nWalk-ins only.  \nStop by between 10 AM and 2 PM to know your status and take charge of your health.
URL:https://projectresponse.org/event/free-hiv-hepatitis-c-testing-2/
LOCATION:Palm Bay Pharmacy\, 1270 Malabar Rd\, Ste 2\, Palm Bay\, Florida\, 32907\, United States
CATEGORIES:Clinic,Testing
END:VEVENT
BEGIN:VEVENT
DTSTART;TZID=America/New_York:20250716T100000
DTEND;TZID=America/New_York:20250716T140000
DTSTAMP:20260422T154501
CREATED:20250611T153740Z
LAST-MODIFIED:20250611T154326Z
UID:12090-1752660000-1752674400@projectresponse.org
SUMMARY:FREE HIV & Hepatitis C Testing
DESCRIPTION:Palm Bay Pharmacy – 1270 Malabar Rd\, Ste #2\, Palm Bay\, FL 3290710:00 AM – 2:00 PM \nFree\, confidential HIV and Hepatitis C testing available on-site at Palm Bay Pharmacy. No insurance or appointment required. \nWalk-ins only.  \nStop by between 10 AM and 2 PM to know your status and take charge of your health.
URL:https://projectresponse.org/event/free-hiv-hepatitis-c-testing/
LOCATION:Palm Bay Pharmacy\, 1270 Malabar Rd\, Ste 2\, Palm Bay\, Florida\, 32907\, United States
CATEGORIES:Clinic,Testing
END:VEVENT
BEGIN:VEVENT
DTSTART;VALUE=DATE:20240821
DTEND;VALUE=DATE:20240822
DTSTAMP:20260422T154501
CREATED:20240606T114950Z
LAST-MODIFIED:20240606T114950Z
UID:10888-1724198400-1724284799@projectresponse.org
SUMMARY:Free Rapid HIV & Hepatitis C Testing
DESCRIPTION:3rd Wednesday of every month \nPalm Bay Pharmacy
URL:https://projectresponse.org/event/free-rapid-hiv-hepatitis-c-testing-3/
LOCATION:Palm Bay Pharmacy\, 1270 Malabar Rd\, Ste 2\, Palm Bay\, Florida\, 32907\, United States
END:VEVENT
BEGIN:VEVENT
DTSTART;VALUE=DATE:20240717
DTEND;VALUE=DATE:20240718
DTSTAMP:20260422T154501
CREATED:20240606T114928Z
LAST-MODIFIED:20240606T114928Z
UID:10887-1721174400-1721260799@projectresponse.org
SUMMARY:Free Rapid HIV & Hepatitis C Testing
DESCRIPTION:3rd Wednesday of every month \nPalm Bay Pharmacy
URL:https://projectresponse.org/event/free-rapid-hiv-hepatitis-c-testing-2/
LOCATION:Palm Bay Pharmacy\, 1270 Malabar Rd\, Ste 2\, Palm Bay\, Florida\, 32907\, United States
END:VEVENT
BEGIN:VEVENT
DTSTART;VALUE=DATE:20240619
DTEND;VALUE=DATE:20240620
DTSTAMP:20260422T154501
CREATED:20240606T114843Z
LAST-MODIFIED:20240606T114843Z
UID:10885-1718755200-1718841599@projectresponse.org
SUMMARY:Free Rapid HIV & Hepatitis C Testing
DESCRIPTION:3rd Wednesday of every month \nPalm Bay Pharmacy
URL:https://projectresponse.org/event/free-rapid-hiv-hepatitis-c-testing/
LOCATION:Palm Bay Pharmacy\, 1270 Malabar Rd\, Ste 2\, Palm Bay\, Florida\, 32907\, United States
END:VEVENT
END:VCALENDAR