BEGIN:VCALENDAR
VERSION:2.0
PRODID:-//Project Response, Inc - ECPv6.15.20//NONSGML v1.0//EN
CALSCALE:GREGORIAN
METHOD:PUBLISH
X-ORIGINAL-URL:https://projectresponse.org
X-WR-CALDESC:Events for Project Response, Inc
REFRESH-INTERVAL;VALUE=DURATION:PT1H
X-Robots-Tag:noindex
X-PUBLISHED-TTL:PT1H
BEGIN:VTIMEZONE
TZID:America/New_York
BEGIN:DAYLIGHT
TZOFFSETFROM:-0500
TZOFFSETTO:-0400
TZNAME:EDT
DTSTART:20240310T070000
END:DAYLIGHT
BEGIN:STANDARD
TZOFFSETFROM:-0400
TZOFFSETTO:-0500
TZNAME:EST
DTSTART:20241103T060000
END:STANDARD
BEGIN:DAYLIGHT
TZOFFSETFROM:-0500
TZOFFSETTO:-0400
TZNAME:EDT
DTSTART:20250309T070000
END:DAYLIGHT
BEGIN:STANDARD
TZOFFSETFROM:-0400
TZOFFSETTO:-0500
TZNAME:EST
DTSTART:20251102T060000
END:STANDARD
BEGIN:DAYLIGHT
TZOFFSETFROM:-0500
TZOFFSETTO:-0400
TZNAME:EDT
DTSTART:20260308T070000
END:DAYLIGHT
BEGIN:STANDARD
TZOFFSETFROM:-0400
TZOFFSETTO:-0500
TZNAME:EST
DTSTART:20261101T060000
END:STANDARD
END:VTIMEZONE
BEGIN:VEVENT
DTSTART;TZID=America/New_York:20250927T110000
DTEND;TZID=America/New_York:20250927T180000
DTSTAMP:20260422T174501
CREATED:20250710T191025Z
LAST-MODIFIED:20250710T191331Z
UID:12159-1758970800-1758996000@projectresponse.org
SUMMARY:Space Coast Pride Parade & Festival
DESCRIPTION:March with Project Response at Space Coast Pride! Join us as we walk proudly in the Space Coast Pride Parade and celebrate 35 years of Project Response supporting and advocating for the LGBTQ+ community.\n \nCome show your pride\, your support\, and your love\, all are welcome!\n \nSaturday\, September 27\, 2025\nFestival from 12pm to 6pm | Parade Begins at 11am\nHistoric Downtown Melbourne\, Florida\n \nSpace Coast Pride
URL:https://projectresponse.org/event/space-coast-pride-parade-festival/
LOCATION:Historic Downtown Melbourne\, 2004 Vernon Place\, Melbourne\, FL\, 32901\, United States
CATEGORIES:Community Events
END:VEVENT
END:VCALENDAR