BEGIN:VCALENDAR
VERSION:2.0
PRODID:-//Project Response, Inc - ECPv6.15.20//NONSGML v1.0//EN
CALSCALE:GREGORIAN
METHOD:PUBLISH
X-WR-CALNAME:Project Response, Inc
X-ORIGINAL-URL:https://projectresponse.org
X-WR-CALDESC:Events for Project Response, Inc
REFRESH-INTERVAL;VALUE=DURATION:PT1H
X-Robots-Tag:noindex
X-PUBLISHED-TTL:PT1H
BEGIN:VTIMEZONE
TZID:America/New_York
BEGIN:DAYLIGHT
TZOFFSETFROM:-0500
TZOFFSETTO:-0400
TZNAME:EDT
DTSTART:20240310T070000
END:DAYLIGHT
BEGIN:STANDARD
TZOFFSETFROM:-0400
TZOFFSETTO:-0500
TZNAME:EST
DTSTART:20241103T060000
END:STANDARD
BEGIN:DAYLIGHT
TZOFFSETFROM:-0500
TZOFFSETTO:-0400
TZNAME:EDT
DTSTART:20250309T070000
END:DAYLIGHT
BEGIN:STANDARD
TZOFFSETFROM:-0400
TZOFFSETTO:-0500
TZNAME:EST
DTSTART:20251102T060000
END:STANDARD
BEGIN:DAYLIGHT
TZOFFSETFROM:-0500
TZOFFSETTO:-0400
TZNAME:EDT
DTSTART:20260308T070000
END:DAYLIGHT
BEGIN:STANDARD
TZOFFSETFROM:-0400
TZOFFSETTO:-0500
TZNAME:EST
DTSTART:20261101T060000
END:STANDARD
END:VTIMEZONE
BEGIN:VEVENT
DTSTART;TZID=America/New_York:20250811T163000
DTEND;TZID=America/New_York:20250811T180000
DTSTAMP:20260422T190344
CREATED:20250605T174256Z
LAST-MODIFIED:20250605T174256Z
UID:11983-1754929800-1754935200@projectresponse.org
SUMMARY:English as a Second Language - Inglés como Segundo lenguaje
DESCRIPTION:English as a Second Language – Inglés como Segundo lenguaje \nOngoing Workshop\nWhat to expect:\n\nStronger reading\, grammar and writing skills.\nHow to communicate effectively in standard American English.\nAnd more!\n\nEvery Monday 4:30pm – 6:00pm \n  \nInglés Gratuitas\nQue esperar:\n\nLectura\, gramaticay y habilidades de escritura\nComunicarse efectivamente en Inglés Basico Americano.\nY mucho más!\n\nLunes de cada semana 4:30pm – 6:00pm\n \nEnglish as Second Language (3).pdf (1)
URL:https://projectresponse.org/event/english-as-a-second-language-ingles-como-segundo-lenguaje-10/
LOCATION:The Pavilion\, Project Response\, 378 Babcock St\,\, Melbourne\, FL\, 32935\, United States
CATEGORIES:Community Events,Education
END:VEVENT
BEGIN:VEVENT
DTSTART;TZID=America/New_York:20250807T173000
DTEND;TZID=America/New_York:20250807T183000
DTSTAMP:20260422T190344
CREATED:20250605T184316Z
LAST-MODIFIED:20250605T184316Z
UID:12041-1754587800-1754591400@projectresponse.org
SUMMARY:Low-Impact Aerobics
DESCRIPTION:Low-Impact Aerobics\nWith Instructor Peter Santiago\n\n\nStay active and feel good with free low-impact aerobics at Project Response. Led by instructor Peter Santiago\, these classes are designed for all fitness levels. Whether you’re on your feet or in your seat\, you’ll enjoy simple\, effective exercises that support healthy choices and overall wellness.\n \nAdults 18 and older are welcome.\n \nNo registration required | Free of charge \n \nBring your sneakers\, wear comfortable clothes\, and join us for movement and motivation in a supportive space.\n \nWellness Flyer (1)
URL:https://projectresponse.org/event/low-impact-aerobics-11/
LOCATION:The Pavilion\, Project Response\, 378 Babcock St\,\, Melbourne\, FL\, 32935\, United States
CATEGORIES:Client Events,Community Events
END:VEVENT
BEGIN:VEVENT
DTSTART;TZID=America/New_York:20250805T173000
DTEND;TZID=America/New_York:20250805T183000
DTSTAMP:20260422T190344
CREATED:20250605T173229Z
LAST-MODIFIED:20250710T185654Z
UID:11963-1754415000-1754418600@projectresponse.org
SUMMARY:Yoga
DESCRIPTION:With instructor Caia Gillett \n \nEvery Tuesday | 5:30pm – 6:30pm | No charge to attend\n \nAll are welcome\, no matter your experience. \n \nFor peace of mind\, a stronger body\, and sanity in a hectic world. \n \nFor more information call 321-724-1177\n \n378 N. Babcock St\n \nYOGA (1)
URL:https://projectresponse.org/event/yoga-9/
LOCATION:Project Response\, Inc. 378 Babcock St. Melbourne\, FL 32935\, 378 Babcock Street\, Melbourne\, FL\, United States
CATEGORIES:Client Events,Community Events
END:VEVENT
BEGIN:VEVENT
DTSTART;TZID=America/New_York:20250804T173000
DTEND;TZID=America/New_York:20250804T183000
DTSTAMP:20260422T190344
CREATED:20250605T184227Z
LAST-MODIFIED:20250605T184227Z
UID:12039-1754328600-1754332200@projectresponse.org
SUMMARY:Low-Impact Aerobics
DESCRIPTION:Low-Impact Aerobics\nWith Instructor Peter Santiago\n\n\nStay active and feel good with free low-impact aerobics at Project Response. Led by instructor Peter Santiago\, these classes are designed for all fitness levels. Whether you’re on your feet or in your seat\, you’ll enjoy simple\, effective exercises that support healthy choices and overall wellness.\n \nAdults 18 and older are welcome.\n \nNo registration required | Free of charge \n \nBring your sneakers\, wear comfortable clothes\, and join us for movement and motivation in a supportive space.\n \nWellness Flyer (1)
URL:https://projectresponse.org/event/low-impact-aerobics-10/
LOCATION:The Pavilion\, Project Response\, 378 Babcock St\,\, Melbourne\, FL\, 32935\, United States
CATEGORIES:Client Events,Community Events
END:VEVENT
BEGIN:VEVENT
DTSTART;TZID=America/New_York:20250804T163000
DTEND;TZID=America/New_York:20250804T180000
DTSTAMP:20260422T190344
CREATED:20250605T174217Z
LAST-MODIFIED:20250605T174217Z
UID:11981-1754325000-1754330400@projectresponse.org
SUMMARY:English as a Second Language - Inglés como Segundo lenguaje
DESCRIPTION:English as a Second Language – Inglés como Segundo lenguaje \nOngoing Workshop\nWhat to expect:\n\nStronger reading\, grammar and writing skills.\nHow to communicate effectively in standard American English.\nAnd more!\n\nEvery Monday 4:30pm – 6:00pm \n  \nInglés Gratuitas\nQue esperar:\n\nLectura\, gramaticay y habilidades de escritura\nComunicarse efectivamente en Inglés Basico Americano.\nY mucho más!\n\nLunes de cada semana 4:30pm – 6:00pm
URL:https://projectresponse.org/event/english-as-a-second-language-ingles-como-segundo-lenguaje-9/
LOCATION:The Pavilion\, Project Response\, 378 Babcock St\,\, Melbourne\, FL\, 32935\, United States
CATEGORIES:Community Events,Education
END:VEVENT
BEGIN:VEVENT
DTSTART;TZID=America/New_York:20250731T173000
DTEND;TZID=America/New_York:20250731T183000
DTSTAMP:20260422T190344
CREATED:20250605T184151Z
LAST-MODIFIED:20250605T184151Z
UID:12037-1753983000-1753986600@projectresponse.org
SUMMARY:Low-Impact Aerobics
DESCRIPTION:Low-Impact Aerobics\nWith Instructor Peter Santiago\n\n\nStay active and feel good with free low-impact aerobics at Project Response. Led by instructor Peter Santiago\, these classes are designed for all fitness levels. Whether you’re on your feet or in your seat\, you’ll enjoy simple\, effective exercises that support healthy choices and overall wellness.\n \nAdults 18 and older are welcome.\n \nNo registration required | Free of charge \n \nBring your sneakers\, wear comfortable clothes\, and join us for movement and motivation in a supportive space.\n \nWellness Flyer (1)
URL:https://projectresponse.org/event/low-impact-aerobics-9/
LOCATION:The Pavilion\, Project Response\, 378 Babcock St\,\, Melbourne\, FL\, 32935\, United States
CATEGORIES:Client Events,Community Events
END:VEVENT
BEGIN:VEVENT
DTSTART;TZID=America/New_York:20250729T173000
DTEND;TZID=America/New_York:20250729T183000
DTSTAMP:20260422T190344
CREATED:20250605T173203Z
LAST-MODIFIED:20250710T185625Z
UID:11961-1753810200-1753813800@projectresponse.org
SUMMARY:Yoga
DESCRIPTION:With instructor Caia Gillett \n \nEvery Tuesday | 5:30pm – 6:30pm | No charge to attend\n \nAll are welcome\, no matter your experience. \n \nFor peace of mind\, a stronger body\, and sanity in a hectic world. \n \nFor more information call 321-724-1177\n \n378 N. Babcock St\n \nYOGA (1)
URL:https://projectresponse.org/event/yoga-8/
LOCATION:Project Response\, Inc. 378 Babcock St. Melbourne\, FL 32935\, 378 Babcock Street\, Melbourne\, FL\, United States
CATEGORIES:Client Events,Community Events
END:VEVENT
BEGIN:VEVENT
DTSTART;TZID=America/New_York:20250728T173000
DTEND;TZID=America/New_York:20250728T183000
DTSTAMP:20260422T190344
CREATED:20250605T184111Z
LAST-MODIFIED:20250605T184111Z
UID:12035-1753723800-1753727400@projectresponse.org
SUMMARY:Low-Impact Aerobics
DESCRIPTION:Low-Impact Aerobics\nWith Instructor Peter Santiago\n\n\nStay active and feel good with free low-impact aerobics at Project Response. Led by instructor Peter Santiago\, these classes are designed for all fitness levels. Whether you’re on your feet or in your seat\, you’ll enjoy simple\, effective exercises that support healthy choices and overall wellness.\n \nAdults 18 and older are welcome.\n \nNo registration required | Free of charge \n \nBring your sneakers\, wear comfortable clothes\, and join us for movement and motivation in a supportive space.\n \nWellness Flyer (1)
URL:https://projectresponse.org/event/low-impact-aerobics-8/
LOCATION:The Pavilion\, Project Response\, 378 Babcock St\,\, Melbourne\, FL\, 32935\, United States
CATEGORIES:Client Events,Community Events
END:VEVENT
BEGIN:VEVENT
DTSTART;TZID=America/New_York:20250728T163000
DTEND;TZID=America/New_York:20250728T180000
DTSTAMP:20260422T190344
CREATED:20250512T135810Z
LAST-MODIFIED:20250512T135810Z
UID:11938-1753720200-1753725600@projectresponse.org
SUMMARY:English as a Second Language - Inglés como Segundo lenguaje
DESCRIPTION:English as a Second Language – Inglés como Segundo lenguaje \nOngoing Workshop\nWhat to expect:\n\nStronger reading\, grammar and writing skills.\nHow to communicate effectively in standard American English.\nAnd more!\n\nEvery Monday 4:30pm – 6:00pm \n  \nInglés Gratuitas\nQue esperar:\n\nLectura\, gramaticay y habilidades de escritura\nComunicarse efectivamente en Inglés Basico Americano.\nY mucho más!\n\nLunes de cada semana 4:30pm – 6:00pm
URL:https://projectresponse.org/event/english-as-a-second-language-ingles-como-segundo-lenguaje-8/
LOCATION:The Pavilion\, Project Response\, 378 Babcock St\,\, Melbourne\, FL\, 32935\, United States
CATEGORIES:Community Events,Education
END:VEVENT
BEGIN:VEVENT
DTSTART;TZID=America/New_York:20250724T173000
DTEND;TZID=America/New_York:20250724T183000
DTSTAMP:20260422T190344
CREATED:20250605T184027Z
LAST-MODIFIED:20250605T184027Z
UID:12033-1753378200-1753381800@projectresponse.org
SUMMARY:Low-Impact Aerobics
DESCRIPTION:Low-Impact Aerobics\nWith Instructor Peter Santiago\n\n\nStay active and feel good with free low-impact aerobics at Project Response. Led by instructor Peter Santiago\, these classes are designed for all fitness levels. Whether you’re on your feet or in your seat\, you’ll enjoy simple\, effective exercises that support healthy choices and overall wellness.\n \nAdults 18 and older are welcome.\n \nNo registration required | Free of charge \n \nBring your sneakers\, wear comfortable clothes\, and join us for movement and motivation in a supportive space.\n \nWellness Flyer (1)
URL:https://projectresponse.org/event/low-impact-aerobics-7/
LOCATION:The Pavilion\, Project Response\, 378 Babcock St\,\, Melbourne\, FL\, 32935\, United States
CATEGORIES:Client Events,Community Events
END:VEVENT
BEGIN:VEVENT
DTSTART;TZID=America/New_York:20250723T120000
DTEND;TZID=America/New_York:20250723T130000
DTSTAMP:20260422T190344
CREATED:20250721T135408Z
LAST-MODIFIED:20250721T135602Z
UID:12168-1753272000-1753275600@projectresponse.org
SUMMARY:Client Advisory Board Meeting
DESCRIPTION:Client Advisory Board Meeting for Project Response in the Pavillion
URL:https://projectresponse.org/event/client-advisory-board-meeting/
LOCATION:The Pavilion\, Project Response\, 378 Babcock St\,\, Melbourne\, FL\, 32935\, United States
CATEGORIES:Board Meeting,Client Events
END:VEVENT
BEGIN:VEVENT
DTSTART;TZID=America/New_York:20250722T173000
DTEND;TZID=America/New_York:20250722T183000
DTSTAMP:20260422T190344
CREATED:20250605T173133Z
LAST-MODIFIED:20250710T185553Z
UID:11959-1753205400-1753209000@projectresponse.org
SUMMARY:Yoga
DESCRIPTION:With instructor Caia Gillett \n \n\nEvery Tuesday | 5:30pm – 6:30pm | No charge to attend\n\n \nAll are welcome\, no matter your experience. \n \nFor peace of mind\, a stronger body\, and sanity in a hectic world. \n \nFor more information call 321-724-1177\n \n378 N. Babcock St\n \nYOGA (1)
URL:https://projectresponse.org/event/yoga-7/
LOCATION:Project Response\, Inc. 378 Babcock St. Melbourne\, FL 32935\, 378 Babcock Street\, Melbourne\, FL\, United States
CATEGORIES:Client Events,Community Events
END:VEVENT
BEGIN:VEVENT
DTSTART;TZID=America/New_York:20250721T173000
DTEND;TZID=America/New_York:20250721T183000
DTSTAMP:20260422T190344
CREATED:20250605T183635Z
LAST-MODIFIED:20250605T183737Z
UID:12028-1753119000-1753122600@projectresponse.org
SUMMARY:Low-Impact Aerobics
DESCRIPTION:Low-Impact Aerobics\nWith Instructor Peter Santiago\n\n\nStay active and feel good with free low-impact aerobics at Project Response. Led by instructor Peter Santiago\, these classes are designed for all fitness levels. Whether you’re on your feet or in your seat\, you’ll enjoy simple\, effective exercises that support healthy choices and overall wellness.\n \nAdults 18 and older are welcome.\n \nNo registration required | Free of charge \n \nBring your sneakers\, wear comfortable clothes\, and join us for movement and motivation in a supportive space.\n \nWellness Flyer (1)
URL:https://projectresponse.org/event/low-impact-aerobics-duplicate/
LOCATION:The Pavilion\, Project Response\, 378 Babcock St\,\, Melbourne\, FL\, 32935\, United States
CATEGORIES:Client Events,Community Events
END:VEVENT
BEGIN:VEVENT
DTSTART;TZID=America/New_York:20250721T163000
DTEND;TZID=America/New_York:20250721T180000
DTSTAMP:20260422T190344
CREATED:20250512T135309Z
LAST-MODIFIED:20250512T135309Z
UID:11925-1753115400-1753120800@projectresponse.org
SUMMARY:English as a Second Language - Inglés como Segundo lenguaje
DESCRIPTION:English as a Second Language – Inglés como Segundo lenguaje \nOngoing Workshop\nWhat to expect:\n\nStronger reading\, grammar and writing skills.\nHow to communicate effectively in standard American English.\nAnd more!\n\nEvery Monday 4:30pm – 6:00pm \n  \nInglés Gratuitas\nQue esperar:\n\nLectura\, gramaticay y habilidades de escritura\nComunicarse efectivamente en Inglés Basico Americano.\nY mucho más!\n\nLunes de cada semana 4:30pm – 6:00pm
URL:https://projectresponse.org/event/english-as-a-second-language-ingles-como-segundo-lenguaje-3/
LOCATION:The Pavilion\, Project Response\, 378 Babcock St\,\, Melbourne\, FL\, 32935\, United States
CATEGORIES:Community Events,Education
END:VEVENT
BEGIN:VEVENT
DTSTART;TZID=America/New_York:20250717T173000
DTEND;TZID=America/New_York:20250717T183000
DTSTAMP:20260422T190344
CREATED:20250605T183821Z
LAST-MODIFIED:20250605T183821Z
UID:12031-1752773400-1752777000@projectresponse.org
SUMMARY:Low-Impact Aerobics
DESCRIPTION:Low-Impact Aerobics\nWith Instructor Peter Santiago\n\n\nStay active and feel good with free low-impact aerobics at Project Response. Led by instructor Peter Santiago\, these classes are designed for all fitness levels. Whether you’re on your feet or in your seat\, you’ll enjoy simple\, effective exercises that support healthy choices and overall wellness.\n \nAdults 18 and older are welcome.\n \nNo registration required | Free of charge \n \nBring your sneakers\, wear comfortable clothes\, and join us for movement and motivation in a supportive space.\n \nWellness Flyer (1)
URL:https://projectresponse.org/event/low-impact-aerobics-6/
LOCATION:The Pavilion\, Project Response\, 378 Babcock St\,\, Melbourne\, FL\, 32935\, United States
CATEGORIES:Client Events,Community Events
END:VEVENT
BEGIN:VEVENT
DTSTART;TZID=America/New_York:20250716T100000
DTEND;TZID=America/New_York:20250716T140000
DTSTAMP:20260422T190344
CREATED:20250611T153740Z
LAST-MODIFIED:20250611T154326Z
UID:12090-1752660000-1752674400@projectresponse.org
SUMMARY:FREE HIV & Hepatitis C Testing
DESCRIPTION:Palm Bay Pharmacy – 1270 Malabar Rd\, Ste #2\, Palm Bay\, FL 3290710:00 AM – 2:00 PM \nFree\, confidential HIV and Hepatitis C testing available on-site at Palm Bay Pharmacy. No insurance or appointment required. \nWalk-ins only.  \nStop by between 10 AM and 2 PM to know your status and take charge of your health.
URL:https://projectresponse.org/event/free-hiv-hepatitis-c-testing/
LOCATION:Palm Bay Pharmacy\, 1270 Malabar Rd\, Ste 2\, Palm Bay\, Florida\, 32907\, United States
CATEGORIES:Clinic,Testing
END:VEVENT
BEGIN:VEVENT
DTSTART;TZID=America/New_York:20250715T173000
DTEND;TZID=America/New_York:20250715T180000
DTSTAMP:20260422T190344
CREATED:20250605T213046Z
LAST-MODIFIED:20250710T185510Z
UID:11957-1752600600-1752602400@projectresponse.org
SUMMARY:Yoga
DESCRIPTION:With instructor Caia Gillett \n \nEvery Tuesday | 5:30pm – 6:30pm \n \nAll are welcome\, no matter your experience. \n \nFor peace of mind\, a stronger body\, and sanity in a hectic world. \n \nFor more information call 321-724-1177\n \n378 N. Babcock St\n \nYOGA (1)
URL:https://projectresponse.org/event/yoga-6/
LOCATION:Project Response\, Inc. 378 Babcock St. Melbourne\, FL 32935\, 378 Babcock Street\, Melbourne\, FL\, United States
CATEGORIES:Client Events,Community Events
END:VEVENT
BEGIN:VEVENT
DTSTART;TZID=America/New_York:20250714T180000
DTEND;TZID=America/New_York:20250714T200000
DTSTAMP:20260422T190344
CREATED:20250211T144617Z
LAST-MODIFIED:20250211T144617Z
UID:11676-1752516000-1752523200@projectresponse.org
SUMMARY:PFLAG
DESCRIPTION:6:00 pm – 8:00 pm \nMeeting Held in the Living Room\, please use the Pavilion Entrance \nThe Living Room\, Project Response\n378 Babcock St\,\nMelbourne\, FL United States
URL:https://projectresponse.org/event/pflag-19/
LOCATION:FL
END:VEVENT
BEGIN:VEVENT
DTSTART;TZID=America/New_York:20250714T173000
DTEND;TZID=America/New_York:20250714T183000
DTSTAMP:20260422T190344
CREATED:20250605T183556Z
LAST-MODIFIED:20250605T183556Z
UID:12026-1752514200-1752517800@projectresponse.org
SUMMARY:Low-Impact Aerobics
DESCRIPTION:Low-Impact Aerobics\nWith Instructor Peter Santiago\n\n\nStay active and feel good with free low-impact aerobics at Project Response. Led by instructor Peter Santiago\, these classes are designed for all fitness levels. Whether you’re on your feet or in your seat\, you’ll enjoy simple\, effective exercises that support healthy choices and overall wellness.\n \nAdults 18 and older are welcome.\n \nNo registration required | Free of charge \n \nBring your sneakers\, wear comfortable clothes\, and join us for movement and motivation in a supportive space.\n \nWellness Flyer (1)
URL:https://projectresponse.org/event/low-impact-aerobics-5/
LOCATION:The Pavilion\, Project Response\, 378 Babcock St\,\, Melbourne\, FL\, 32935\, United States
CATEGORIES:Client Events,Community Events
END:VEVENT
BEGIN:VEVENT
DTSTART;TZID=America/New_York:20250714T163000
DTEND;TZID=America/New_York:20250714T180000
DTSTAMP:20260422T190344
CREATED:20250512T135243Z
LAST-MODIFIED:20250512T135243Z
UID:11923-1752510600-1752516000@projectresponse.org
SUMMARY:English as a Second Language - Inglés como Segundo lenguaje
DESCRIPTION:English as a Second Language – Inglés como Segundo lenguaje \nOngoing Workshop\nWhat to expect:\n\nStronger reading\, grammar and writing skills.\nHow to communicate effectively in standard American English.\nAnd more!\n\nEvery Monday 4:30pm – 6:00pm \n  \nInglés Gratuitas\nQue esperar:\n\nLectura\, gramaticay y habilidades de escritura\nComunicarse efectivamente en Inglés Basico Americano.\nY mucho más!\n\nLunes de cada semana 4:30pm – 6:00pm
URL:https://projectresponse.org/event/english-as-a-second-language-ingles-como-segundo-lenguaje-2/
LOCATION:The Pavilion\, Project Response\, 378 Babcock St\,\, Melbourne\, FL\, 32935\, United States
CATEGORIES:Community Events,Education
END:VEVENT
BEGIN:VEVENT
DTSTART;TZID=America/New_York:20250710T173000
DTEND;TZID=America/New_York:20250710T183000
DTSTAMP:20260422T190344
CREATED:20250605T183523Z
LAST-MODIFIED:20250605T183523Z
UID:12024-1752168600-1752172200@projectresponse.org
SUMMARY:Low-Impact Aerobics
DESCRIPTION:Low-Impact Aerobics\nWith Instructor Peter Santiago\n\n\nStay active and feel good with free low-impact aerobics at Project Response. Led by instructor Peter Santiago\, these classes are designed for all fitness levels. Whether you’re on your feet or in your seat\, you’ll enjoy simple\, effective exercises that support healthy choices and overall wellness.\n \nAdults 18 and older are welcome.\n \nNo registration required | Free of charge \n \nBring your sneakers\, wear comfortable clothes\, and join us for movement and motivation in a supportive space.\n \nWellness Flyer (1)
URL:https://projectresponse.org/event/low-impact-aerobics-4/
LOCATION:The Pavilion\, Project Response\, 378 Babcock St\,\, Melbourne\, FL\, 32935\, United States
CATEGORIES:Client Events,Community Events
END:VEVENT
BEGIN:VEVENT
DTSTART;TZID=America/New_York:20250708T170000
DTEND;TZID=America/New_York:20250708T180000
DTSTAMP:20260422T190344
CREATED:20250605T173019Z
LAST-MODIFIED:20250605T185838Z
UID:11955-1751994000-1751997600@projectresponse.org
SUMMARY:Yoga
DESCRIPTION:With instructor Caia Gillett \n \nEvery Tuesday starting June 10th | 5:00pm – 6:00pm | No charge to attend\n \nAll are welcome\, no matter your experience. \n \nFor peace of mind\, a stronger body\, and sanity in a hectic world. \n \nFor more information call 321-724-1177\n \n378 N. Babcock St\n \nYOGA (1)
URL:https://projectresponse.org/event/yoga-5/
LOCATION:Project Response\, Inc. 378 Babcock St. Melbourne\, FL 32935\, 378 Babcock Street\, Melbourne\, FL\, United States
CATEGORIES:Client Events,Community Events
END:VEVENT
BEGIN:VEVENT
DTSTART;TZID=America/New_York:20250708T080000
DTEND;TZID=America/New_York:20250708T170000
DTSTAMP:20260422T190344
CREATED:20250625T121429Z
LAST-MODIFIED:20250625T121429Z
UID:12129-1751961600-1751994000@projectresponse.org
SUMMARY:Senior Activities Group: Movie Matinee Outing
DESCRIPTION:Date: Tuesday\, July 8\nLocation: Oaks Stadium 10\, Melbourne\n \nJoin our Senior Activities Group for a fun and relaxing afternoon at the movies! We’ll be heading to the Oaks Stadium 10 in Melbourne for a Movie Matinee. The exact showtime and movie title will be announced closer to the date\, once listings are available.\n \nStay tuned for updates and get ready to enjoy a great film and even better company!\n \nFor questions or to RSVP\, please contact (321) 724-1177.
URL:https://projectresponse.org/event/senior-activities-group-movie-matinee-outing/
LOCATION:Premiere Oaks Stadium 10\, 1800 W Hibiscus Blvd\, Melbourne\, FL\, 32901\, United States
CATEGORIES:Client Events,Community Events,Support Group
END:VEVENT
BEGIN:VEVENT
DTSTART;TZID=America/New_York:20250707T173000
DTEND;TZID=America/New_York:20250707T183000
DTSTAMP:20260422T190344
CREATED:20250605T183450Z
LAST-MODIFIED:20250605T183450Z
UID:12022-1751909400-1751913000@projectresponse.org
SUMMARY:Low-Impact Aerobics
DESCRIPTION:Low-Impact Aerobics\nWith Instructor Peter Santiago\n\n\nStay active and feel good with free low-impact aerobics at Project Response. Led by instructor Peter Santiago\, these classes are designed for all fitness levels. Whether you’re on your feet or in your seat\, you’ll enjoy simple\, effective exercises that support healthy choices and overall wellness.\n \nAdults 18 and older are welcome.\n \nNo registration required | Free of charge \n \nBring your sneakers\, wear comfortable clothes\, and join us for movement and motivation in a supportive space.\n \nWellness Flyer (1)
URL:https://projectresponse.org/event/low-impact-aerobics-2/
LOCATION:The Pavilion\, Project Response\, 378 Babcock St\,\, Melbourne\, FL\, 32935\, United States
CATEGORIES:Client Events,Community Events
END:VEVENT
BEGIN:VEVENT
DTSTART;TZID=America/New_York:20250707T163000
DTEND;TZID=America/New_York:20250707T180000
DTSTAMP:20260422T190344
CREATED:20250512T135736Z
LAST-MODIFIED:20250512T135736Z
UID:11936-1751905800-1751911200@projectresponse.org
SUMMARY:English as a Second Language - Inglés como Segundo lenguaje
DESCRIPTION:English as a Second Language – Inglés como Segundo lenguaje \nOngoing Workshop\nWhat to expect:\n\nStronger reading\, grammar and writing skills.\nHow to communicate effectively in standard American English.\nAnd more!\n\nEvery Monday 4:30pm – 6:00pm \n  \nInglés Gratuitas\nQue esperar:\n\nLectura\, gramaticay y habilidades de escritura\nComunicarse efectivamente en Inglés Basico Americano.\nY mucho más!\n\nLunes de cada semana 4:30pm – 6:00pm
URL:https://projectresponse.org/event/english-as-a-second-language-ingles-como-segundo-lenguaje-7/
LOCATION:The Pavilion\, Project Response\, 378 Babcock St\,\, Melbourne\, FL\, 32935\, United States
CATEGORIES:Community Events,Education
END:VEVENT
BEGIN:VEVENT
DTSTART;TZID=America/New_York:20250705T120000
DTEND;TZID=America/New_York:20250705T150000
DTSTAMP:20260422T190344
CREATED:20250605T185502Z
LAST-MODIFIED:20250605T185502Z
UID:12073-1751716800-1751727600@projectresponse.org
SUMMARY:Painting Workshop
DESCRIPTION:Painting Workshop\nLed by instructor Dolores Garcia\nUnleash your creativity at our free Painting Workshop\, led by the fabulous Dolores Garcia! Whether you’re a beginner or an experienced artist\, this welcoming session is all about self-expression\, relaxation\, and connection through art.\n \nThis workshop is offered at no cost and includes all materials – just bring yourself and a willingness to get inspired.\n \nDate: July 5th\nTime: 12:00 PM – 3:00 PM\nLocation: The Pavilion at Project Response\n378 N Babcock Street\, Melbourne\, FL\nPaint Party! (1)
URL:https://projectresponse.org/event/painting-workshop/
LOCATION:The Pavilion\, Project Response\, 378 Babcock St\,\, Melbourne\, FL\, 32935\, United States
END:VEVENT
BEGIN:VEVENT
DTSTART;TZID=America/New_York:20250703T173000
DTEND;TZID=America/New_York:20250703T183000
DTSTAMP:20260422T190344
CREATED:20250605T183316Z
LAST-MODIFIED:20250605T183316Z
UID:12018-1751563800-1751567400@projectresponse.org
SUMMARY:Low-Impact Aerobics
DESCRIPTION:Low-Impact Aerobics\nWith Instructor Peter Santiago\n\n\nStay active and feel good with free low-impact aerobics at Project Response. Led by instructor Peter Santiago\, these classes are designed for all fitness levels. Whether you’re on your feet or in your seat\, you’ll enjoy simple\, effective exercises that support healthy choices and overall wellness.\n \nAdults 18 and older are welcome.\n \nNo registration required | Free of charge \n \nBring your sneakers\, wear comfortable clothes\, and join us for movement and motivation in a supportive space.\n \nWellness Flyer (1)
URL:https://projectresponse.org/event/low-impact-aerobics-3/
LOCATION:The Pavilion\, Project Response\, 378 Babcock St\,\, Melbourne\, FL\, 32935\, United States
CATEGORIES:Client Events,Community Events
END:VEVENT
BEGIN:VEVENT
DTSTART;TZID=America/New_York:20250701T170000
DTEND;TZID=America/New_York:20250701T180000
DTSTAMP:20260422T190344
CREATED:20250605T172926Z
LAST-MODIFIED:20250605T185758Z
UID:11953-1751389200-1751392800@projectresponse.org
SUMMARY:Yoga
DESCRIPTION:With instructor Caia Gillett \n \nEvery Tuesday starting June 10th | 5:00pm – 6:00pm | No charge to attend\n \nAll are welcome\, no matter your experience. \n \nFor peace of mind\, a stronger body\, and sanity in a hectic world. \n \nFor more information call 321-724-1177\n \n378 N. Babcock St\n \nYOGA (1)
URL:https://projectresponse.org/event/yoga-4/
LOCATION:Project Response\, Inc. 378 Babcock St. Melbourne\, FL 32935\, 378 Babcock Street\, Melbourne\, FL\, United States
CATEGORIES:Client Events,Community Events
END:VEVENT
BEGIN:VEVENT
DTSTART;TZID=America/New_York:20250630T173000
DTEND;TZID=America/New_York:20250630T183000
DTSTAMP:20260422T190344
CREATED:20250605T181236Z
LAST-MODIFIED:20250605T181423Z
UID:12013-1751304600-1751308200@projectresponse.org
SUMMARY:Low-Impact Aerobics
DESCRIPTION:Low-Impact Aerobics\nWith Instructor Peter Santiago\n\n\nStay active and feel good with free low-impact aerobics at Project Response. Led by instructor Peter Santiago\, these classes are designed for all fitness levels. Whether you’re on your feet or in your seat\, you’ll enjoy simple\, effective exercises that support healthy choices and overall wellness.\n \nAdults 18 and older are welcome.\n \nNo registration required | Free of charge \n \nBring your sneakers\, wear comfortable clothes\, and join us for movement and motivation in a supportive space.\n \nWellness Flyer (1)
URL:https://projectresponse.org/event/low-impact-aerobics/
LOCATION:The Pavilion\, Project Response\, 378 Babcock St\,\, Melbourne\, FL\, 32935\, United States
CATEGORIES:Client Events,Community Events
END:VEVENT
BEGIN:VEVENT
DTSTART;TZID=America/New_York:20250630T163000
DTEND;TZID=America/New_York:20250630T180000
DTSTAMP:20260422T190344
CREATED:20250512T135708Z
LAST-MODIFIED:20250512T135708Z
UID:11934-1751301000-1751306400@projectresponse.org
SUMMARY:English as a Second Language - Inglés como Segundo lenguaje
DESCRIPTION:English as a Second Language – Inglés como Segundo lenguaje \nOngoing Workshop\nWhat to expect:\n\nStronger reading\, grammar and writing skills.\nHow to communicate effectively in standard American English.\nAnd more!\n\nEvery Monday 4:30pm – 6:00pm \n  \nInglés Gratuitas\nQue esperar:\n\nLectura\, gramaticay y habilidades de escritura\nComunicarse efectivamente en Inglés Basico Americano.\nY mucho más!\n\nLunes de cada semana 4:30pm – 6:00pm
URL:https://projectresponse.org/event/english-as-a-second-language-ingles-como-segundo-lenguaje-6/
LOCATION:The Pavilion\, Project Response\, 378 Babcock St\,\, Melbourne\, FL\, 32935\, United States
CATEGORIES:Community Events,Education
END:VEVENT
END:VCALENDAR