BEGIN:VCALENDAR
VERSION:2.0
PRODID:-//Project Response, Inc - ECPv6.15.20//NONSGML v1.0//EN
CALSCALE:GREGORIAN
METHOD:PUBLISH
X-ORIGINAL-URL:https://projectresponse.org
X-WR-CALDESC:Events for Project Response, Inc
REFRESH-INTERVAL;VALUE=DURATION:PT1H
X-Robots-Tag:noindex
X-PUBLISHED-TTL:PT1H
BEGIN:VTIMEZONE
TZID:America/New_York
BEGIN:DAYLIGHT
TZOFFSETFROM:-0500
TZOFFSETTO:-0400
TZNAME:EDT
DTSTART:20250309T070000
END:DAYLIGHT
BEGIN:STANDARD
TZOFFSETFROM:-0400
TZOFFSETTO:-0500
TZNAME:EST
DTSTART:20251102T060000
END:STANDARD
BEGIN:DAYLIGHT
TZOFFSETFROM:-0500
TZOFFSETTO:-0400
TZNAME:EDT
DTSTART:20260308T070000
END:DAYLIGHT
BEGIN:STANDARD
TZOFFSETFROM:-0400
TZOFFSETTO:-0500
TZNAME:EST
DTSTART:20261101T060000
END:STANDARD
BEGIN:DAYLIGHT
TZOFFSETFROM:-0500
TZOFFSETTO:-0400
TZNAME:EDT
DTSTART:20270314T070000
END:DAYLIGHT
BEGIN:STANDARD
TZOFFSETFROM:-0400
TZOFFSETTO:-0500
TZNAME:EST
DTSTART:20271107T060000
END:STANDARD
END:VTIMEZONE
BEGIN:VEVENT
DTSTART;TZID=America/New_York:20260501T090000
DTEND;TZID=America/New_York:20260501T130000
DTSTAMP:20260422T190233
CREATED:20260325T193018Z
LAST-MODIFIED:20260422T134358Z
UID:12716-1777626000-1777640400@projectresponse.org
SUMMARY:Mobile Health Clinic (Sharing Center)
DESCRIPTION:Our mobile health clinic travels throughout Brevard providing free\, confidential health services directly in the community. Services include HIV and Hepatitis C testing\, phlebotomy\, prevention education\, and access to supportive resources and care coordination.\nVisitors can expect a professional\, private\, and welcoming experience. Our team is available to answer questions\, provide education on prevention options\, and connect individuals with ongoing care and local services as needed. No appointments are required\, and services are designed to be accessible and convenient.\nVisit us during this event to access services\, connect with our team\, and learn more about available resources.
URL:https://projectresponse.org/event/mobile-health-clinic-sharing-center/2026-05-01/
CATEGORIES:Mobile Health Clinic
END:VEVENT
BEGIN:VEVENT
DTSTART;VALUE=DATE:20260504
DTEND;VALUE=DATE:20260505
DTSTAMP:20260422T190233
CREATED:20260403T170825Z
LAST-MODIFIED:20260403T170825Z
UID:12867-1777852800-1777939199@projectresponse.org
SUMMARY:Seniors Activities Group (Call for Info)
DESCRIPTION:Call for more information
URL:https://projectresponse.org/event/seniors-activities-group-call-for-info/
CATEGORIES:Community Events
END:VEVENT
BEGIN:VEVENT
DTSTART;TZID=America/New_York:20260504T110000
DTEND;TZID=America/New_York:20260504T150000
DTSTAMP:20260422T190233
CREATED:20260325T192500Z
LAST-MODIFIED:20260422T134307Z
UID:12702-1777892400-1777906800@projectresponse.org
SUMMARY:Mobile Health Clinic (Empire Pharmacy)
DESCRIPTION:Our mobile health clinic travels throughout Brevard providing free\, confidential health services directly in the community. Services include HIV and Hepatitis C testing\, phlebotomy\, prevention education\, and access to supportive resources and care coordination.\nVisitors can expect a professional\, private\, and welcoming experience. Our team is available to answer questions\, provide education on prevention options\, and connect individuals with ongoing care and local services as needed. No appointments are required\, and services are designed to be accessible and convenient.\nVisit us during this event to access services\, connect with our team\, and learn more about available resources.
URL:https://projectresponse.org/event/mobile-health-clinic-m-empire-pharmacy/2026-05-04/
LOCATION:Empire Pharmacy – Cocoa\, 1451 Dixon Boulevard\, Cocoa\, FL\, 32922\, United States
CATEGORIES:Mobile Health Clinic
END:VEVENT
BEGIN:VEVENT
DTSTART;TZID=America/New_York:20260508T090000
DTEND;TZID=America/New_York:20260508T130000
DTSTAMP:20260422T190233
CREATED:20260325T193018Z
LAST-MODIFIED:20260422T134359Z
UID:12717-1778230800-1778245200@projectresponse.org
SUMMARY:Mobile Health Clinic (Sharing Center)
DESCRIPTION:Our mobile health clinic travels throughout Brevard providing free\, confidential health services directly in the community. Services include HIV and Hepatitis C testing\, phlebotomy\, prevention education\, and access to supportive resources and care coordination.\nVisitors can expect a professional\, private\, and welcoming experience. Our team is available to answer questions\, provide education on prevention options\, and connect individuals with ongoing care and local services as needed. No appointments are required\, and services are designed to be accessible and convenient.\nVisit us during this event to access services\, connect with our team\, and learn more about available resources.
URL:https://projectresponse.org/event/mobile-health-clinic-sharing-center/2026-05-08/
CATEGORIES:Mobile Health Clinic
END:VEVENT
BEGIN:VEVENT
DTSTART;TZID=America/New_York:20260511T100000
DTEND;TZID=America/New_York:20260511T120000
DTSTAMP:20260422T190233
CREATED:20260403T170931Z
LAST-MODIFIED:20260403T170931Z
UID:12870-1778493600-1778500800@projectresponse.org
SUMMARY:Positively Social
DESCRIPTION:
URL:https://projectresponse.org/event/positively-social/
LOCATION:Project Response\, 745 S Apollo Blvd\, Melbourne\, 32901
CATEGORIES:Community Events
END:VEVENT
BEGIN:VEVENT
DTSTART;TZID=America/New_York:20260511T110000
DTEND;TZID=America/New_York:20260511T150000
DTSTAMP:20260422T190233
CREATED:20260325T192500Z
LAST-MODIFIED:20260422T134308Z
UID:12703-1778497200-1778511600@projectresponse.org
SUMMARY:Mobile Health Clinic (Empire Pharmacy)
DESCRIPTION:Our mobile health clinic travels throughout Brevard providing free\, confidential health services directly in the community. Services include HIV and Hepatitis C testing\, phlebotomy\, prevention education\, and access to supportive resources and care coordination.\nVisitors can expect a professional\, private\, and welcoming experience. Our team is available to answer questions\, provide education on prevention options\, and connect individuals with ongoing care and local services as needed. No appointments are required\, and services are designed to be accessible and convenient.\nVisit us during this event to access services\, connect with our team\, and learn more about available resources.
URL:https://projectresponse.org/event/mobile-health-clinic-m-empire-pharmacy/2026-05-11/
LOCATION:Empire Pharmacy – Cocoa\, 1451 Dixon Boulevard\, Cocoa\, FL\, 32922\, United States
CATEGORIES:Mobile Health Clinic
END:VEVENT
BEGIN:VEVENT
DTSTART;TZID=America/New_York:20260511T183000
DTEND;TZID=America/New_York:20260511T203000
DTSTAMP:20260422T190233
CREATED:20260403T172057Z
LAST-MODIFIED:20260403T172057Z
UID:12872-1778524200-1778531400@projectresponse.org
SUMMARY:PFLAG Meeting
DESCRIPTION:
URL:https://projectresponse.org/event/pflag-meeting-2/
LOCATION:Project Response\, 745 S Apollo Blvd\, Melbourne\, 32901
CATEGORIES:Community Events
END:VEVENT
BEGIN:VEVENT
DTSTART;TZID=America/New_York:20260513T110000
DTEND;TZID=America/New_York:20260513T150000
DTSTAMP:20260422T190233
CREATED:20260402T182207Z
LAST-MODIFIED:20260422T135843Z
UID:12847-1778670000-1778684400@projectresponse.org
SUMMARY:Mobile Health Clinic (Winn-Dixie West Melbourne)
DESCRIPTION:Our mobile health clinic travels throughout Brevard providing free\, confidential health services directly in the community. Services include HIV and Hepatitis C testing\, phlebotomy\, prevention education\, and access to supportive resources and care coordination.\n\nVisitors can expect a professional\, private\, and welcoming experience. Our team is available to answer questions\, provide education on prevention options\, and connect individuals with ongoing care and local services as needed. No appointments are required\, and services are designed to be accessible and convenient.\n\nVisit us during this event to access services\, connect with our team\, and learn more about available resources.
URL:https://projectresponse.org/event/mobile-health-clinic-winn-dixie-west-melbourne/2026-05-13/
LOCATION:Winn-Dixie West Melbourne\, 3170 W New Haven\, West Melbourne\, 32904\, United States
CATEGORIES:Mobile Health Clinic
END:VEVENT
BEGIN:VEVENT
DTSTART;TZID=America/New_York:20260515T090000
DTEND;TZID=America/New_York:20260515T130000
DTSTAMP:20260422T190233
CREATED:20260325T193018Z
LAST-MODIFIED:20260422T134400Z
UID:12718-1778835600-1778850000@projectresponse.org
SUMMARY:Mobile Health Clinic (Sharing Center)
DESCRIPTION:Our mobile health clinic travels throughout Brevard providing free\, confidential health services directly in the community. Services include HIV and Hepatitis C testing\, phlebotomy\, prevention education\, and access to supportive resources and care coordination.\nVisitors can expect a professional\, private\, and welcoming experience. Our team is available to answer questions\, provide education on prevention options\, and connect individuals with ongoing care and local services as needed. No appointments are required\, and services are designed to be accessible and convenient.\nVisit us during this event to access services\, connect with our team\, and learn more about available resources.
URL:https://projectresponse.org/event/mobile-health-clinic-sharing-center/2026-05-15/
CATEGORIES:Mobile Health Clinic
END:VEVENT
BEGIN:VEVENT
DTSTART;VALUE=DATE:20260518
DTEND;VALUE=DATE:20260519
DTSTAMP:20260422T190233
CREATED:20200717T141820Z
LAST-MODIFIED:20200717T141820Z
UID:12838-1779062400-1779148799@projectresponse.org
SUMMARY:HIV Vaccine Awareness
DESCRIPTION:
URL:https://projectresponse.org/event/hiv-vaccine-awareness/2026-05-18/
ATTACH;FMTTYPE=image/jpeg:https://projectresponse.org/wp-content/uploads/awareness-banner-vaccine.jpg
END:VEVENT
BEGIN:VEVENT
DTSTART;TZID=America/New_York:20260518T110000
DTEND;TZID=America/New_York:20260518T150000
DTSTAMP:20260422T190233
CREATED:20260325T192500Z
LAST-MODIFIED:20260422T134309Z
UID:12704-1779102000-1779116400@projectresponse.org
SUMMARY:Mobile Health Clinic (Empire Pharmacy)
DESCRIPTION:Our mobile health clinic travels throughout Brevard providing free\, confidential health services directly in the community. Services include HIV and Hepatitis C testing\, phlebotomy\, prevention education\, and access to supportive resources and care coordination.\nVisitors can expect a professional\, private\, and welcoming experience. Our team is available to answer questions\, provide education on prevention options\, and connect individuals with ongoing care and local services as needed. No appointments are required\, and services are designed to be accessible and convenient.\nVisit us during this event to access services\, connect with our team\, and learn more about available resources.
URL:https://projectresponse.org/event/mobile-health-clinic-m-empire-pharmacy/2026-05-18/
LOCATION:Empire Pharmacy – Cocoa\, 1451 Dixon Boulevard\, Cocoa\, FL\, 32922\, United States
CATEGORIES:Mobile Health Clinic
END:VEVENT
BEGIN:VEVENT
DTSTART;VALUE=DATE:20260519
DTEND;VALUE=DATE:20260520
DTSTAMP:20260422T190233
CREATED:20200717T144803Z
LAST-MODIFIED:20200717T144803Z
UID:12834-1779148800-1779235199@projectresponse.org
SUMMARY:National Asian & Pacific Islander HIV/AIDS
DESCRIPTION:
URL:https://projectresponse.org/event/national-asian-pacific-islander-hiv-aids/2026-05-19/
ATTACH;FMTTYPE=image/jpeg:https://projectresponse.org/wp-content/uploads/awareness-banner-asianpacific-1.jpg
END:VEVENT
BEGIN:VEVENT
DTSTART;TZID=America/New_York:20260522T090000
DTEND;TZID=America/New_York:20260522T130000
DTSTAMP:20260422T190233
CREATED:20260325T193018Z
LAST-MODIFIED:20260422T134401Z
UID:12719-1779440400-1779454800@projectresponse.org
SUMMARY:Mobile Health Clinic (Sharing Center)
DESCRIPTION:Our mobile health clinic travels throughout Brevard providing free\, confidential health services directly in the community. Services include HIV and Hepatitis C testing\, phlebotomy\, prevention education\, and access to supportive resources and care coordination.\nVisitors can expect a professional\, private\, and welcoming experience. Our team is available to answer questions\, provide education on prevention options\, and connect individuals with ongoing care and local services as needed. No appointments are required\, and services are designed to be accessible and convenient.\nVisit us during this event to access services\, connect with our team\, and learn more about available resources.
URL:https://projectresponse.org/event/mobile-health-clinic-sharing-center/2026-05-22/
CATEGORIES:Mobile Health Clinic
END:VEVENT
BEGIN:VEVENT
DTSTART;VALUE=DATE:20260525
DTEND;VALUE=DATE:20260526
DTSTAMP:20260422T190233
CREATED:20260403T172211Z
LAST-MODIFIED:20260403T172211Z
UID:12874-1779667200-1779753599@projectresponse.org
SUMMARY:Office Closed Memorial Day
DESCRIPTION:
URL:https://projectresponse.org/event/office-closed-memorial-day/
LOCATION:Project Response\, 745 S Apollo Blvd\, Melbourne\, 32901
END:VEVENT
BEGIN:VEVENT
DTSTART;TZID=America/New_York:20260525T110000
DTEND;TZID=America/New_York:20260525T150000
DTSTAMP:20260422T190233
CREATED:20260325T192500Z
LAST-MODIFIED:20260422T134311Z
UID:12705-1779706800-1779721200@projectresponse.org
SUMMARY:Mobile Health Clinic (Empire Pharmacy)
DESCRIPTION:Our mobile health clinic travels throughout Brevard providing free\, confidential health services directly in the community. Services include HIV and Hepatitis C testing\, phlebotomy\, prevention education\, and access to supportive resources and care coordination.\nVisitors can expect a professional\, private\, and welcoming experience. Our team is available to answer questions\, provide education on prevention options\, and connect individuals with ongoing care and local services as needed. No appointments are required\, and services are designed to be accessible and convenient.\nVisit us during this event to access services\, connect with our team\, and learn more about available resources.
URL:https://projectresponse.org/event/mobile-health-clinic-m-empire-pharmacy/2026-05-25/
LOCATION:Empire Pharmacy – Cocoa\, 1451 Dixon Boulevard\, Cocoa\, FL\, 32922\, United States
CATEGORIES:Mobile Health Clinic
END:VEVENT
BEGIN:VEVENT
DTSTART;TZID=America/New_York:20260527T110000
DTEND;TZID=America/New_York:20260527T150000
DTSTAMP:20260422T190233
CREATED:20260402T182207Z
LAST-MODIFIED:20260422T135844Z
UID:12848-1779879600-1779894000@projectresponse.org
SUMMARY:Mobile Health Clinic (Winn-Dixie West Melbourne)
DESCRIPTION:Our mobile health clinic travels throughout Brevard providing free\, confidential health services directly in the community. Services include HIV and Hepatitis C testing\, phlebotomy\, prevention education\, and access to supportive resources and care coordination.\n\nVisitors can expect a professional\, private\, and welcoming experience. Our team is available to answer questions\, provide education on prevention options\, and connect individuals with ongoing care and local services as needed. No appointments are required\, and services are designed to be accessible and convenient.\n\nVisit us during this event to access services\, connect with our team\, and learn more about available resources.
URL:https://projectresponse.org/event/mobile-health-clinic-winn-dixie-west-melbourne/2026-05-27/
LOCATION:Winn-Dixie West Melbourne\, 3170 W New Haven\, West Melbourne\, 32904\, United States
CATEGORIES:Mobile Health Clinic
END:VEVENT
BEGIN:VEVENT
DTSTART;TZID=America/New_York:20260528T110000
DTEND;TZID=America/New_York:20260528T150000
DTSTAMP:20260422T190233
CREATED:20260325T194912Z
LAST-MODIFIED:20260421T194049Z
UID:12841-1779966000-1779980400@projectresponse.org
SUMMARY:Mobile Health Clinic (Cocoa Beach Community Church)
DESCRIPTION:Our mobile health clinic travels throughout Brevard providing free\, confidential health services directly in the community. Services include HIV and Hepatitis C testing\, phlebotomy\, prevention education\, and access to supportive resources and care coordination.\n\nVisitors can expect a professional\, private\, and welcoming experience. Our team is available to answer questions\, provide education on prevention options\, and connect individuals with ongoing care and local services as needed. No appointments are required\, and services are designed to be accessible and convenient.\n\nVisit us during this event to access services\, connect with our team\, and learn more about available resources.
URL:https://projectresponse.org/event/mobile-health-clinic-cocoa-beach-community-church/2026-05-28/
LOCATION:Cocoa Beach Community Church\, 126 S Atlantic Ave\, Cocoa Beach\, 32931\, United States
CATEGORIES:Mobile Health Clinic
END:VEVENT
BEGIN:VEVENT
DTSTART;TZID=America/New_York:20260529T090000
DTEND;TZID=America/New_York:20260529T130000
DTSTAMP:20260422T190233
CREATED:20260325T193018Z
LAST-MODIFIED:20260422T134403Z
UID:12720-1780045200-1780059600@projectresponse.org
SUMMARY:Mobile Health Clinic (Sharing Center)
DESCRIPTION:Our mobile health clinic travels throughout Brevard providing free\, confidential health services directly in the community. Services include HIV and Hepatitis C testing\, phlebotomy\, prevention education\, and access to supportive resources and care coordination.\nVisitors can expect a professional\, private\, and welcoming experience. Our team is available to answer questions\, provide education on prevention options\, and connect individuals with ongoing care and local services as needed. No appointments are required\, and services are designed to be accessible and convenient.\nVisit us during this event to access services\, connect with our team\, and learn more about available resources.
URL:https://projectresponse.org/event/mobile-health-clinic-sharing-center/2026-05-29/
CATEGORIES:Mobile Health Clinic
END:VEVENT
BEGIN:VEVENT
DTSTART;TZID=America/New_York:20260601T110000
DTEND;TZID=America/New_York:20260601T150000
DTSTAMP:20260422T190233
CREATED:20260325T192500Z
LAST-MODIFIED:20260422T134312Z
UID:12706-1780311600-1780326000@projectresponse.org
SUMMARY:Mobile Health Clinic (Empire Pharmacy)
DESCRIPTION:Our mobile health clinic travels throughout Brevard providing free\, confidential health services directly in the community. Services include HIV and Hepatitis C testing\, phlebotomy\, prevention education\, and access to supportive resources and care coordination.\nVisitors can expect a professional\, private\, and welcoming experience. Our team is available to answer questions\, provide education on prevention options\, and connect individuals with ongoing care and local services as needed. No appointments are required\, and services are designed to be accessible and convenient.\nVisit us during this event to access services\, connect with our team\, and learn more about available resources.
URL:https://projectresponse.org/event/mobile-health-clinic-m-empire-pharmacy/2026-06-01/
LOCATION:Empire Pharmacy – Cocoa\, 1451 Dixon Boulevard\, Cocoa\, FL\, 32922\, United States
CATEGORIES:Mobile Health Clinic
END:VEVENT
BEGIN:VEVENT
DTSTART;VALUE=DATE:20260605
DTEND;VALUE=DATE:20260606
DTSTAMP:20260422T190233
CREATED:20200717T145038Z
LAST-MODIFIED:20200717T145038Z
UID:12836-1780617600-1780703999@projectresponse.org
SUMMARY:HIV Long-Term Survivors Awareness Day
DESCRIPTION:
URL:https://projectresponse.org/event/hiv-long-term-survivors-awareness-day/2026-06-05/
ATTACH;FMTTYPE=image/jpeg:https://projectresponse.org/wp-content/uploads/awareness-banner-longterm.jpg
END:VEVENT
BEGIN:VEVENT
DTSTART;TZID=America/New_York:20260605T090000
DTEND;TZID=America/New_York:20260605T130000
DTSTAMP:20260422T190233
CREATED:20260325T193018Z
LAST-MODIFIED:20260422T134404Z
UID:12721-1780650000-1780664400@projectresponse.org
SUMMARY:Mobile Health Clinic (Sharing Center)
DESCRIPTION:Our mobile health clinic travels throughout Brevard providing free\, confidential health services directly in the community. Services include HIV and Hepatitis C testing\, phlebotomy\, prevention education\, and access to supportive resources and care coordination.\nVisitors can expect a professional\, private\, and welcoming experience. Our team is available to answer questions\, provide education on prevention options\, and connect individuals with ongoing care and local services as needed. No appointments are required\, and services are designed to be accessible and convenient.\nVisit us during this event to access services\, connect with our team\, and learn more about available resources.
URL:https://projectresponse.org/event/mobile-health-clinic-sharing-center/2026-06-05/
CATEGORIES:Mobile Health Clinic
END:VEVENT
BEGIN:VEVENT
DTSTART;TZID=America/New_York:20260605T113000
DTEND;TZID=America/New_York:20260605T133000
DTSTAMP:20260422T190233
CREATED:20260403T172321Z
LAST-MODIFIED:20260403T172321Z
UID:12876-1780659000-1780666200@projectresponse.org
SUMMARY:Long Term Survivors Lunch
DESCRIPTION:RSVP to Project Response
URL:https://projectresponse.org/event/long-term-survivors-lunch/
LOCATION:Project Response\, 745 S Apollo Blvd\, Melbourne\, 32901
CATEGORIES:Community Events
END:VEVENT
BEGIN:VEVENT
DTSTART;TZID=America/New_York:20260608T110000
DTEND;TZID=America/New_York:20260608T150000
DTSTAMP:20260422T190233
CREATED:20260325T192500Z
LAST-MODIFIED:20260422T134314Z
UID:12707-1780916400-1780930800@projectresponse.org
SUMMARY:Mobile Health Clinic (Empire Pharmacy)
DESCRIPTION:Our mobile health clinic travels throughout Brevard providing free\, confidential health services directly in the community. Services include HIV and Hepatitis C testing\, phlebotomy\, prevention education\, and access to supportive resources and care coordination.\nVisitors can expect a professional\, private\, and welcoming experience. Our team is available to answer questions\, provide education on prevention options\, and connect individuals with ongoing care and local services as needed. No appointments are required\, and services are designed to be accessible and convenient.\nVisit us during this event to access services\, connect with our team\, and learn more about available resources.
URL:https://projectresponse.org/event/mobile-health-clinic-m-empire-pharmacy/2026-06-08/
LOCATION:Empire Pharmacy – Cocoa\, 1451 Dixon Boulevard\, Cocoa\, FL\, 32922\, United States
CATEGORIES:Mobile Health Clinic
END:VEVENT
BEGIN:VEVENT
DTSTART;TZID=America/New_York:20260608T183000
DTEND;TZID=America/New_York:20260608T203000
DTSTAMP:20260422T190233
CREATED:20260403T172443Z
LAST-MODIFIED:20260403T172443Z
UID:12878-1780943400-1780950600@projectresponse.org
SUMMARY:PFLAG Meeting
DESCRIPTION:
URL:https://projectresponse.org/event/pflag-meeting-3/
LOCATION:Project Response\, 745 S Apollo Blvd\, Melbourne\, 32901
CATEGORIES:Community Events
END:VEVENT
BEGIN:VEVENT
DTSTART;VALUE=DATE:20260611
DTEND;VALUE=DATE:20260612
DTSTAMP:20260422T190233
CREATED:20260403T172534Z
LAST-MODIFIED:20260403T172534Z
UID:12880-1781136000-1781222399@projectresponse.org
SUMMARY:Wyatt Deihl Presents “I Am Not A Monster”
DESCRIPTION:Florida Law and HIV disclosure FREE Event
URL:https://projectresponse.org/event/wyatt-deihl-presents-i-am-not-a-monster/
LOCATION:Project Response\, 745 S Apollo Blvd\, Melbourne\, 32901
CATEGORIES:Community Events
END:VEVENT
BEGIN:VEVENT
DTSTART;TZID=America/New_York:20260612T090000
DTEND;TZID=America/New_York:20260612T130000
DTSTAMP:20260422T190233
CREATED:20260325T193018Z
LAST-MODIFIED:20260422T134404Z
UID:12723-1781254800-1781269200@projectresponse.org
SUMMARY:Mobile Health Clinic (Sharing Center)
DESCRIPTION:Our mobile health clinic travels throughout Brevard providing free\, confidential health services directly in the community. Services include HIV and Hepatitis C testing\, phlebotomy\, prevention education\, and access to supportive resources and care coordination.\nVisitors can expect a professional\, private\, and welcoming experience. Our team is available to answer questions\, provide education on prevention options\, and connect individuals with ongoing care and local services as needed. No appointments are required\, and services are designed to be accessible and convenient.\nVisit us during this event to access services\, connect with our team\, and learn more about available resources.
URL:https://projectresponse.org/event/mobile-health-clinic-sharing-center/2026-06-12/
CATEGORIES:Mobile Health Clinic
END:VEVENT
BEGIN:VEVENT
DTSTART;TZID=America/New_York:20260615T110000
DTEND;TZID=America/New_York:20260615T150000
DTSTAMP:20260422T190233
CREATED:20260325T192500Z
LAST-MODIFIED:20260422T134316Z
UID:12708-1781521200-1781535600@projectresponse.org
SUMMARY:Mobile Health Clinic (Empire Pharmacy)
DESCRIPTION:Our mobile health clinic travels throughout Brevard providing free\, confidential health services directly in the community. Services include HIV and Hepatitis C testing\, phlebotomy\, prevention education\, and access to supportive resources and care coordination.\nVisitors can expect a professional\, private\, and welcoming experience. Our team is available to answer questions\, provide education on prevention options\, and connect individuals with ongoing care and local services as needed. No appointments are required\, and services are designed to be accessible and convenient.\nVisit us during this event to access services\, connect with our team\, and learn more about available resources.
URL:https://projectresponse.org/event/mobile-health-clinic-m-empire-pharmacy/2026-06-15/
LOCATION:Empire Pharmacy – Cocoa\, 1451 Dixon Boulevard\, Cocoa\, FL\, 32922\, United States
CATEGORIES:Mobile Health Clinic
END:VEVENT
BEGIN:VEVENT
DTSTART;TZID=America/New_York:20260618T183000
DTEND;TZID=America/New_York:20260618T203000
DTSTAMP:20260422T190233
CREATED:20260403T172618Z
LAST-MODIFIED:20260403T172618Z
UID:12882-1781807400-1781814600@projectresponse.org
SUMMARY:Space Coast Pride Board Meeting
DESCRIPTION:
URL:https://projectresponse.org/event/space-coast-pride-board-meeting-2/
LOCATION:Project Response\, 745 S Apollo Blvd\, Melbourne\, 32901
CATEGORIES:Board Meeting
END:VEVENT
BEGIN:VEVENT
DTSTART;TZID=America/New_York:20260619T090000
DTEND;TZID=America/New_York:20260619T130000
DTSTAMP:20260422T190233
CREATED:20260325T193018Z
LAST-MODIFIED:20260422T134410Z
UID:12738-1781859600-1781874000@projectresponse.org
SUMMARY:Mobile Health Clinic (Sharing Center)
DESCRIPTION:Our mobile health clinic travels throughout Brevard providing free\, confidential health services directly in the community. Services include HIV and Hepatitis C testing\, phlebotomy\, prevention education\, and access to supportive resources and care coordination.\nVisitors can expect a professional\, private\, and welcoming experience. Our team is available to answer questions\, provide education on prevention options\, and connect individuals with ongoing care and local services as needed. No appointments are required\, and services are designed to be accessible and convenient.\nVisit us during this event to access services\, connect with our team\, and learn more about available resources.
URL:https://projectresponse.org/event/mobile-health-clinic-sharing-center/2026-06-19/
CATEGORIES:Mobile Health Clinic
END:VEVENT
BEGIN:VEVENT
DTSTART;TZID=America/New_York:20260620T070000
DTEND;TZID=America/New_York:20260620T120000
DTSTAMP:20260422T190233
CREATED:20260403T172701Z
LAST-MODIFIED:20260403T172701Z
UID:12884-1781938800-1781956800@projectresponse.org
SUMMARY:Space Coast Pride Rainbow Run 5k
DESCRIPTION:
URL:https://projectresponse.org/event/space-coast-pride-rainbow-run-5k/
LOCATION:Wickham Park\, 2500 Parkway Dr\, Melbourne\, FL\, 32935\, United States
CATEGORIES:Community Events
END:VEVENT
END:VCALENDAR