BEGIN:VCALENDAR
VERSION:2.0
PRODID:-//Project Response, Inc - ECPv6.15.20//NONSGML v1.0//EN
CALSCALE:GREGORIAN
METHOD:PUBLISH
X-WR-CALNAME:Project Response, Inc
X-ORIGINAL-URL:https://projectresponse.org
X-WR-CALDESC:Events for Project Response, Inc
REFRESH-INTERVAL;VALUE=DURATION:PT1H
X-Robots-Tag:noindex
X-PUBLISHED-TTL:PT1H
BEGIN:VTIMEZONE
TZID:America/New_York
BEGIN:DAYLIGHT
TZOFFSETFROM:-0500
TZOFFSETTO:-0400
TZNAME:EDT
DTSTART:20240310T070000
END:DAYLIGHT
BEGIN:STANDARD
TZOFFSETFROM:-0400
TZOFFSETTO:-0500
TZNAME:EST
DTSTART:20241103T060000
END:STANDARD
BEGIN:DAYLIGHT
TZOFFSETFROM:-0500
TZOFFSETTO:-0400
TZNAME:EDT
DTSTART:20250309T070000
END:DAYLIGHT
BEGIN:STANDARD
TZOFFSETFROM:-0400
TZOFFSETTO:-0500
TZNAME:EST
DTSTART:20251102T060000
END:STANDARD
BEGIN:DAYLIGHT
TZOFFSETFROM:-0500
TZOFFSETTO:-0400
TZNAME:EDT
DTSTART:20260308T070000
END:DAYLIGHT
BEGIN:STANDARD
TZOFFSETFROM:-0400
TZOFFSETTO:-0500
TZNAME:EST
DTSTART:20261101T060000
END:STANDARD
BEGIN:DAYLIGHT
TZOFFSETFROM:-0500
TZOFFSETTO:-0400
TZNAME:EDT
DTSTART:20270314T070000
END:DAYLIGHT
BEGIN:STANDARD
TZOFFSETFROM:-0400
TZOFFSETTO:-0500
TZNAME:EST
DTSTART:20271107T060000
END:STANDARD
END:VTIMEZONE
BEGIN:VEVENT
DTSTART;TZID=America/New_York:20260421T180000
DTEND;TZID=America/New_York:20260421T200000
DTSTAMP:20260422T190257
CREATED:20260403T170057Z
LAST-MODIFIED:20260403T170057Z
UID:12856-1776794400-1776801600@projectresponse.org
SUMMARY:Ryan White Community Meeting
DESCRIPTION:
URL:https://projectresponse.org/event/ryan-white-community-meeting-3/
CATEGORIES:Community Events
END:VEVENT
BEGIN:VEVENT
DTSTART;TZID=America/New_York:20260420T110000
DTEND;TZID=America/New_York:20260420T150000
DTSTAMP:20260422T190257
CREATED:20260325T192500Z
LAST-MODIFIED:20260422T134305Z
UID:12700-1776682800-1776697200@projectresponse.org
SUMMARY:Mobile Health Clinic (Empire Pharmacy)
DESCRIPTION:Our mobile health clinic travels throughout Brevard providing free\, confidential health services directly in the community. Services include HIV and Hepatitis C testing\, phlebotomy\, prevention education\, and access to supportive resources and care coordination.\nVisitors can expect a professional\, private\, and welcoming experience. Our team is available to answer questions\, provide education on prevention options\, and connect individuals with ongoing care and local services as needed. No appointments are required\, and services are designed to be accessible and convenient.\nVisit us during this event to access services\, connect with our team\, and learn more about available resources.
URL:https://projectresponse.org/event/mobile-health-clinic-m-empire-pharmacy/2026-04-20/
LOCATION:Empire Pharmacy – Cocoa\, 1451 Dixon Boulevard\, Cocoa\, FL\, 32922\, United States
CATEGORIES:Mobile Health Clinic
END:VEVENT
BEGIN:VEVENT
DTSTART;TZID=America/New_York:20260418T150000
DTEND;TZID=America/New_York:20260418T170000
DTSTAMP:20260422T190257
CREATED:20260403T165554Z
LAST-MODIFIED:20260403T165554Z
UID:12854-1776524400-1776531600@projectresponse.org
SUMMARY:Positively Social Free Painting Class
DESCRIPTION:
URL:https://projectresponse.org/event/positively-social-free-painting-class/2026-04-18/
LOCATION:Project Response\, 745 S Apollo Blvd\, Melbourne\, 32901
CATEGORIES:Community Events
END:VEVENT
BEGIN:VEVENT
DTSTART;TZID=America/New_York:20260418T100000
DTEND;TZID=America/New_York:20260418T140000
DTSTAMP:20260422T190257
CREATED:20260402T193855Z
LAST-MODIFIED:20260402T193855Z
UID:12850-1776506400-1776520800@projectresponse.org
SUMMARY:Mobile Health Clinic (Melbourne Square Mall)
DESCRIPTION:
URL:https://projectresponse.org/event/mobile-health-clinic-melbourne-square-mall/
LOCATION:Melbourne Square Mall\, 1700 W New Haven Ave\, Melbourne\, FL\, 32904\, United States
CATEGORIES:Mobile Health Clinic
END:VEVENT
BEGIN:VEVENT
DTSTART;VALUE=DATE:20260418
DTEND;VALUE=DATE:20260419
DTSTAMP:20260422T190257
CREATED:20200717T125513Z
LAST-MODIFIED:20200717T125513Z
UID:12840-1776470400-1776556799@projectresponse.org
SUMMARY:National Transgender HIV Testing
DESCRIPTION:
URL:https://projectresponse.org/event/national-transgender-hiv-testing/2026-04-18/
ATTACH;FMTTYPE=image/jpeg:https://projectresponse.org/wp-content/uploads/awareness-banner-transgender.jpg
END:VEVENT
BEGIN:VEVENT
DTSTART;TZID=America/New_York:20260417T090000
DTEND;TZID=America/New_York:20260417T130000
DTSTAMP:20260422T190257
CREATED:20260325T193018Z
LAST-MODIFIED:20260422T134355Z
UID:12714-1776416400-1776430800@projectresponse.org
SUMMARY:Mobile Health Clinic (Sharing Center)
DESCRIPTION:Our mobile health clinic travels throughout Brevard providing free\, confidential health services directly in the community. Services include HIV and Hepatitis C testing\, phlebotomy\, prevention education\, and access to supportive resources and care coordination.\nVisitors can expect a professional\, private\, and welcoming experience. Our team is available to answer questions\, provide education on prevention options\, and connect individuals with ongoing care and local services as needed. No appointments are required\, and services are designed to be accessible and convenient.\nVisit us during this event to access services\, connect with our team\, and learn more about available resources.
URL:https://projectresponse.org/event/mobile-health-clinic-sharing-center/2026-04-17/
CATEGORIES:Mobile Health Clinic
END:VEVENT
BEGIN:VEVENT
DTSTART;TZID=America/New_York:20260416T183000
DTEND;TZID=America/New_York:20260416T203000
DTSTAMP:20260422T190257
CREATED:20260403T170522Z
LAST-MODIFIED:20260403T170522Z
UID:12862-1776364200-1776371400@projectresponse.org
SUMMARY:Space Coast Pride Board Meeting
DESCRIPTION:
URL:https://projectresponse.org/event/space-coast-pride-board-meeting/
LOCATION:Project Response\, 745 S Apollo Blvd\, Melbourne\, 32901
CATEGORIES:Board Meeting
END:VEVENT
BEGIN:VEVENT
DTSTART;TZID=America/New_York:20260413T183000
DTEND;TZID=America/New_York:20260413T203000
DTSTAMP:20260422T190257
CREATED:20260403T170427Z
LAST-MODIFIED:20260403T170427Z
UID:12860-1776105000-1776112200@projectresponse.org
SUMMARY:PFLAG Meeting
DESCRIPTION:
URL:https://projectresponse.org/event/pflag-meeting/
LOCATION:Project Response\, 745 S Apollo Blvd\, Melbourne\, 32901
CATEGORIES:Client Events
END:VEVENT
BEGIN:VEVENT
DTSTART;TZID=America/New_York:20260413T110000
DTEND;TZID=America/New_York:20260413T150000
DTSTAMP:20260422T190257
CREATED:20260325T192500Z
LAST-MODIFIED:20260422T134304Z
UID:12699-1776078000-1776092400@projectresponse.org
SUMMARY:Mobile Health Clinic (Empire Pharmacy)
DESCRIPTION:Our mobile health clinic travels throughout Brevard providing free\, confidential health services directly in the community. Services include HIV and Hepatitis C testing\, phlebotomy\, prevention education\, and access to supportive resources and care coordination.\nVisitors can expect a professional\, private\, and welcoming experience. Our team is available to answer questions\, provide education on prevention options\, and connect individuals with ongoing care and local services as needed. No appointments are required\, and services are designed to be accessible and convenient.\nVisit us during this event to access services\, connect with our team\, and learn more about available resources.
URL:https://projectresponse.org/event/mobile-health-clinic-m-empire-pharmacy/2026-04-13/
LOCATION:Empire Pharmacy – Cocoa\, 1451 Dixon Boulevard\, Cocoa\, FL\, 32922\, United States
CATEGORIES:Mobile Health Clinic
END:VEVENT
BEGIN:VEVENT
DTSTART;TZID=America/New_York:20260413T100000
DTEND;TZID=America/New_York:20260413T120000
DTSTAMP:20260422T190257
CREATED:20260403T165554Z
LAST-MODIFIED:20260403T165554Z
UID:12852-1776074400-1776081600@projectresponse.org
SUMMARY:Positively Social Free Painting Class
DESCRIPTION:
URL:https://projectresponse.org/event/positively-social-free-painting-class/2026-04-13/
LOCATION:Project Response\, 745 S Apollo Blvd\, Melbourne\, 32901
CATEGORIES:Community Events
END:VEVENT
BEGIN:VEVENT
DTSTART;TZID=America/New_York:20260410T090000
DTEND;TZID=America/New_York:20260410T130000
DTSTAMP:20260422T190257
CREATED:20260325T193018Z
LAST-MODIFIED:20260422T134354Z
UID:12713-1775811600-1775826000@projectresponse.org
SUMMARY:Mobile Health Clinic (Sharing Center)
DESCRIPTION:Our mobile health clinic travels throughout Brevard providing free\, confidential health services directly in the community. Services include HIV and Hepatitis C testing\, phlebotomy\, prevention education\, and access to supportive resources and care coordination.\nVisitors can expect a professional\, private\, and welcoming experience. Our team is available to answer questions\, provide education on prevention options\, and connect individuals with ongoing care and local services as needed. No appointments are required\, and services are designed to be accessible and convenient.\nVisit us during this event to access services\, connect with our team\, and learn more about available resources.
URL:https://projectresponse.org/event/mobile-health-clinic-sharing-center/2026-04-10/
CATEGORIES:Mobile Health Clinic
END:VEVENT
BEGIN:VEVENT
DTSTART;TZID=America/New_York:20260408T110000
DTEND;TZID=America/New_York:20260408T150000
DTSTAMP:20260422T190257
CREATED:20260402T182207Z
LAST-MODIFIED:20260422T135842Z
UID:12843-1775646000-1775660400@projectresponse.org
SUMMARY:Mobile Health Clinic (Winn-Dixie West Melbourne)
DESCRIPTION:Our mobile health clinic travels throughout Brevard providing free\, confidential health services directly in the community. Services include HIV and Hepatitis C testing\, phlebotomy\, prevention education\, and access to supportive resources and care coordination.\n\nVisitors can expect a professional\, private\, and welcoming experience. Our team is available to answer questions\, provide education on prevention options\, and connect individuals with ongoing care and local services as needed. No appointments are required\, and services are designed to be accessible and convenient.\n\nVisit us during this event to access services\, connect with our team\, and learn more about available resources.
URL:https://projectresponse.org/event/mobile-health-clinic-winn-dixie-west-melbourne/2026-04-08/
LOCATION:Winn-Dixie West Melbourne\, 3170 W New Haven\, West Melbourne\, 32904\, United States
CATEGORIES:Mobile Health Clinic
END:VEVENT
BEGIN:VEVENT
DTSTART;TZID=America/New_York:20260406T110000
DTEND;TZID=America/New_York:20260406T150000
DTSTAMP:20260422T190257
CREATED:20260325T192500Z
LAST-MODIFIED:20260422T134303Z
UID:12698-1775473200-1775487600@projectresponse.org
SUMMARY:Mobile Health Clinic (Empire Pharmacy)
DESCRIPTION:Our mobile health clinic travels throughout Brevard providing free\, confidential health services directly in the community. Services include HIV and Hepatitis C testing\, phlebotomy\, prevention education\, and access to supportive resources and care coordination.\nVisitors can expect a professional\, private\, and welcoming experience. Our team is available to answer questions\, provide education on prevention options\, and connect individuals with ongoing care and local services as needed. No appointments are required\, and services are designed to be accessible and convenient.\nVisit us during this event to access services\, connect with our team\, and learn more about available resources.
URL:https://projectresponse.org/event/mobile-health-clinic-m-empire-pharmacy/2026-04-06/
LOCATION:Empire Pharmacy – Cocoa\, 1451 Dixon Boulevard\, Cocoa\, FL\, 32922\, United States
CATEGORIES:Mobile Health Clinic
END:VEVENT
BEGIN:VEVENT
DTSTART;TZID=America/New_York:20260403T090000
DTEND;TZID=America/New_York:20260403T130000
DTSTAMP:20260422T190257
CREATED:20260325T193018Z
LAST-MODIFIED:20260422T134354Z
UID:12712-1775206800-1775221200@projectresponse.org
SUMMARY:Mobile Health Clinic (Sharing Center)
DESCRIPTION:Our mobile health clinic travels throughout Brevard providing free\, confidential health services directly in the community. Services include HIV and Hepatitis C testing\, phlebotomy\, prevention education\, and access to supportive resources and care coordination.\nVisitors can expect a professional\, private\, and welcoming experience. Our team is available to answer questions\, provide education on prevention options\, and connect individuals with ongoing care and local services as needed. No appointments are required\, and services are designed to be accessible and convenient.\nVisit us during this event to access services\, connect with our team\, and learn more about available resources.
URL:https://projectresponse.org/event/mobile-health-clinic-sharing-center/2026-04-03/
CATEGORIES:Mobile Health Clinic
END:VEVENT
BEGIN:VEVENT
DTSTART;TZID=America/New_York:20260326T180000
DTEND;TZID=America/New_York:20260326T200000
DTSTAMP:20260422T190257
CREATED:20260325T164736Z
LAST-MODIFIED:20260325T164815Z
UID:12542-1774548000-1774555200@projectresponse.org
SUMMARY:Mobile Health Clinic 03/26/2026
DESCRIPTION:
URL:https://projectresponse.org/event/mobile-health-clinic-03-26-2026/
LOCATION:Satellite Beach Cinemas\, 1024 Jimmy Buffett Mem Hwy #136\, Satellite Beach\, 32937\, United States
CATEGORIES:Mobile Health Clinic
END:VEVENT
BEGIN:VEVENT
DTSTART;TZID=America/New_York:20260321T110000
DTEND;TZID=America/New_York:20260321T150000
DTSTAMP:20260422T190257
CREATED:20260325T164218Z
LAST-MODIFIED:20260325T164357Z
UID:12539-1774090800-1774105200@projectresponse.org
SUMMARY:Mobile Health Clinic 03/21/2026
DESCRIPTION:
URL:https://projectresponse.org/event/mobile-health-clinic-03-21-2026/
LOCATION:A1 Hardware/Empire Pharmacy\, 1066 Clearlake Rd\, Cocoa\, FL\, 32922\, United States
CATEGORIES:Mobile Health Clinic
END:VEVENT
BEGIN:VEVENT
DTSTART;TZID=America/New_York:20260318T130000
DTEND;TZID=America/New_York:20260318T160000
DTSTAMP:20260422T190257
CREATED:20260325T163828Z
LAST-MODIFIED:20260325T164042Z
UID:12536-1773838800-1773849600@projectresponse.org
SUMMARY:Mobile Health Clinic 03/18/2026
DESCRIPTION:
URL:https://projectresponse.org/event/mobile-health-clinic-03-18-2026/
LOCATION:FIT Student Health Fair at Crawford Green
CATEGORIES:Mobile Health Clinic
END:VEVENT
BEGIN:VEVENT
DTSTART;TZID=America/New_York:20251217T100000
DTEND;TZID=America/New_York:20251217T140000
DTSTAMP:20260422T190257
CREATED:20250611T155048Z
LAST-MODIFIED:20250611T155048Z
UID:12101-1765965600-1765980000@projectresponse.org
SUMMARY:FREE HIV & Hepatitis C Testing
DESCRIPTION:Palm Bay Pharmacy – 1270 Malabar Rd\, Ste #2\, Palm Bay\, FL 3290710:00 AM – 2:00 PM \nFree\, confidential HIV and Hepatitis C testing available on-site at Palm Bay Pharmacy. No insurance or appointment required. \nWalk-ins only.  \nStop by between 10 AM and 2 PM to know your status and take charge of your health.
URL:https://projectresponse.org/event/free-hiv-hepatitis-c-testing-6/
LOCATION:Palm Bay Pharmacy\, 1270 Malabar Rd\, Ste 2\, Palm Bay\, Florida\, 32907\, United States
CATEGORIES:Clinic,Testing
END:VEVENT
BEGIN:VEVENT
DTSTART;TZID=America/New_York:20251208T180000
DTEND;TZID=America/New_York:20251208T200000
DTSTAMP:20260422T190257
CREATED:20250211T145124Z
LAST-MODIFIED:20250211T145124Z
UID:11686-1765216800-1765224000@projectresponse.org
SUMMARY:PFLAG
DESCRIPTION:6:00 pm – 8:00 pm \nMeeting Held in the Living Room\, please use the Pavilion Entrance \nThe Living Room\, Project Response\n378 Babcock St\,\nMelbourne\, FL United States
URL:https://projectresponse.org/event/pflag-26/
END:VEVENT
BEGIN:VEVENT
DTSTART;TZID=America/New_York:20251201T173000
DTEND;TZID=America/New_York:20251201T193000
DTSTAMP:20260422T190257
CREATED:20251029T161204Z
LAST-MODIFIED:20251029T161204Z
UID:12266-1764610200-1764617400@projectresponse.org
SUMMARY:World AIDS Day Service
DESCRIPTION:Join us for the World AIDS Day Service with Space Coast AIDS Quilts on display \n5:30pm
URL:https://projectresponse.org/event/world-aids-day-service/
END:VEVENT
BEGIN:VEVENT
DTSTART;VALUE=DATE:20251127
DTEND;VALUE=DATE:20251129
DTSTAMP:20260422T190257
CREATED:20251029T161029Z
LAST-MODIFIED:20251029T161029Z
UID:12264-1764201600-1764374399@projectresponse.org
SUMMARY:Office Closed
DESCRIPTION:Office Closed
URL:https://projectresponse.org/event/office-closed-2/
END:VEVENT
BEGIN:VEVENT
DTSTART;TZID=America/New_York:20251126T113000
DTEND;TZID=America/New_York:20251126T133000
DTSTAMP:20260422T190257
CREATED:20251029T160928Z
LAST-MODIFIED:20251029T160928Z
UID:12262-1764156600-1764163800@projectresponse.org
SUMMARY:Thanksgiving Day Lunch
DESCRIPTION:Thanksgiving Day Lunch | 11:30 AM  \nNo Charge for Clients and Patients 
URL:https://projectresponse.org/event/thanksgiving-day-lunch/
END:VEVENT
BEGIN:VEVENT
DTSTART;TZID=America/New_York:20251119T100000
DTEND;TZID=America/New_York:20251119T140000
DTSTAMP:20260422T190257
CREATED:20250611T154910Z
LAST-MODIFIED:20250611T154910Z
UID:12099-1763546400-1763560800@projectresponse.org
SUMMARY:FREE HIV & Hepatitis C Testing
DESCRIPTION:Palm Bay Pharmacy – 1270 Malabar Rd\, Ste #2\, Palm Bay\, FL 3290710:00 AM – 2:00 PM \nFree\, confidential HIV and Hepatitis C testing available on-site at Palm Bay Pharmacy. No insurance or appointment required. \nWalk-ins only.  \nStop by between 10 AM and 2 PM to know your status and take charge of your health.
URL:https://projectresponse.org/event/free-hiv-hepatitis-c-testing-5/
LOCATION:Palm Bay Pharmacy\, 1270 Malabar Rd\, Ste 2\, Palm Bay\, Florida\, 32907\, United States
CATEGORIES:Clinic,Testing
END:VEVENT
BEGIN:VEVENT
DTSTART;VALUE=DATE:20251114
DTEND;VALUE=DATE:20251115
DTSTAMP:20260422T190257
CREATED:20251029T160757Z
LAST-MODIFIED:20251029T160955Z
UID:12260-1763078400-1763164799@projectresponse.org
SUMMARY:Office Closed | Staff In-Service
DESCRIPTION:
URL:https://projectresponse.org/event/office-closed-staff-in-service/
END:VEVENT
BEGIN:VEVENT
DTSTART;TZID=America/New_York:20251110T180000
DTEND;TZID=America/New_York:20251110T200000
DTSTAMP:20260422T190257
CREATED:20250211T145102Z
LAST-MODIFIED:20250211T145102Z
UID:11684-1762797600-1762804800@projectresponse.org
SUMMARY:PFLAG
DESCRIPTION:6:00 pm – 8:00 pm \nMeeting Held in the Living Room\, please use the Pavilion Entrance \nThe Living Room\, Project Response\n378 Babcock St\,\nMelbourne\, FL United States
URL:https://projectresponse.org/event/pflag-25/
END:VEVENT
BEGIN:VEVENT
DTSTART;TZID=America/New_York:20251015T100000
DTEND;TZID=America/New_York:20251015T140000
DTSTAMP:20260422T190257
CREATED:20250611T154652Z
LAST-MODIFIED:20250611T154652Z
UID:12097-1760522400-1760536800@projectresponse.org
SUMMARY:FREE HIV & Hepatitis C Testing
DESCRIPTION:Palm Bay Pharmacy – 1270 Malabar Rd\, Ste #2\, Palm Bay\, FL 3290710:00 AM – 2:00 PM \nFree\, confidential HIV and Hepatitis C testing available on-site at Palm Bay Pharmacy. No insurance or appointment required. \nWalk-ins only.  \nStop by between 10 AM and 2 PM to know your status and take charge of your health.
URL:https://projectresponse.org/event/free-hiv-hepatitis-c-testing-4/
LOCATION:Palm Bay Pharmacy\, 1270 Malabar Rd\, Ste 2\, Palm Bay\, Florida\, 32907\, United States
CATEGORIES:Clinic,Testing
END:VEVENT
BEGIN:VEVENT
DTSTART;TZID=America/New_York:20251013T180000
DTEND;TZID=America/New_York:20251013T200000
DTSTAMP:20260422T190257
CREATED:20250211T144741Z
LAST-MODIFIED:20250211T144741Z
UID:11682-1760378400-1760385600@projectresponse.org
SUMMARY:PFLAG
DESCRIPTION:6:00 pm – 8:00 pm \nMeeting Held in the Living Room\, please use the Pavilion Entrance \nThe Living Room\, Project Response\n378 Babcock St\,\nMelbourne\, FL United States
URL:https://projectresponse.org/event/pflag-24/
END:VEVENT
BEGIN:VEVENT
DTSTART;TZID=America/New_York:20251004T173000
DTEND;TZID=America/New_York:20251004T203000
DTSTAMP:20260422T190257
CREATED:20250510T142648Z
LAST-MODIFIED:20250510T142648Z
UID:11900-1759599000-1759609800@projectresponse.org
SUMMARY:A Night at Moulin Rouge
DESCRIPTION:Doors Open at 5:30pm  \nBuffet Starts at 6:30pm \nEarly Bird single tickets 75.00 May 1-June 1 \nEarly bird single Gala tickets May May 11 th – June 11 th 2025 just $75.00 each\nRegular pricing beginning June 12 th $100.00 each \nSingle seat tickets limited inventory! Split a premium sponsor table with a few friends and make it a\nMoulin Rouge night to remember. \nOn line silent Auction will launch August 30 and end at 8 PM October 4 th Need not be present to win.\nAll proceeds go to Project Response outreach HIV Testing. \n  \nLearn More at https://projectresponse.org/35th-anniversary-gala/
URL:https://projectresponse.org/event/a-night-at-moulin-rouge/
LOCATION:The Grand Manor\, 1450 Sarno Rd\, Melbourne\, Fl\, United States
END:VEVENT
BEGIN:VEVENT
DTSTART;TZID=America/New_York:20250930T173000
DTEND;TZID=America/New_York:20250930T183000
DTSTAMP:20260422T190257
CREATED:20250605T173918Z
LAST-MODIFIED:20250710T190022Z
UID:11979-1759253400-1759257000@projectresponse.org
SUMMARY:Yoga
DESCRIPTION:With instructor Caia Gillett \n \nEvery Tuesday | 5:30pm – 6:30pm | No charge to attend\n \nAll are welcome\, no matter your experience. \n \nFor peace of mind\, a stronger body\, and sanity in a hectic world. \n \nFor more information call 321-724-1177\n \n378 N. Babcock St\n \nYOGA (1)
URL:https://projectresponse.org/event/yoga-17/
LOCATION:Project Response\, Inc. 378 Babcock St. Melbourne\, FL 32935\, 378 Babcock Street\, Melbourne\, FL\, United States
CATEGORIES:Client Events,Community Events
END:VEVENT
BEGIN:VEVENT
DTSTART;VALUE=DATE:20250930
DTEND;VALUE=DATE:20251001
DTSTAMP:20260422T190257
CREATED:20250710T191536Z
LAST-MODIFIED:20250710T191536Z
UID:12162-1759190400-1759276799@projectresponse.org
SUMMARY:Seniors Activities Group: Brevard Zoo Trip
DESCRIPTION:Join the Seniors Activities Group for a day out at the Brevard Zoo! Space is limited\, RSVP today to reserve your spot.\n \nTuesday\, September 30\, 2025 | Brevard Zoo\nSpace is limited — RSVP required
URL:https://projectresponse.org/event/seniors-activities-group-brevard-zoo-trip/
LOCATION:Brevard Zoo\, 8225 N Wickham Rd\, Melbourne\, FL\, 32940\, United States
CATEGORIES:Client Events,Community Events
END:VEVENT
END:VCALENDAR