BEGIN:VCALENDAR
VERSION:2.0
PRODID:-//Project Response, Inc - ECPv6.15.20//NONSGML v1.0//EN
CALSCALE:GREGORIAN
METHOD:PUBLISH
X-WR-CALNAME:Project Response, Inc
X-ORIGINAL-URL:https://projectresponse.org
X-WR-CALDESC:Events for Project Response, Inc
REFRESH-INTERVAL;VALUE=DURATION:PT1H
X-Robots-Tag:noindex
X-PUBLISHED-TTL:PT1H
BEGIN:VTIMEZONE
TZID:America/New_York
BEGIN:DAYLIGHT
TZOFFSETFROM:-0500
TZOFFSETTO:-0400
TZNAME:EDT
DTSTART:20200308T070000
END:DAYLIGHT
BEGIN:STANDARD
TZOFFSETFROM:-0400
TZOFFSETTO:-0500
TZNAME:EST
DTSTART:20201101T060000
END:STANDARD
BEGIN:DAYLIGHT
TZOFFSETFROM:-0500
TZOFFSETTO:-0400
TZNAME:EDT
DTSTART:20210314T070000
END:DAYLIGHT
BEGIN:STANDARD
TZOFFSETFROM:-0400
TZOFFSETTO:-0500
TZNAME:EST
DTSTART:20211107T060000
END:STANDARD
BEGIN:DAYLIGHT
TZOFFSETFROM:-0500
TZOFFSETTO:-0400
TZNAME:EDT
DTSTART:20220313T070000
END:DAYLIGHT
BEGIN:STANDARD
TZOFFSETFROM:-0400
TZOFFSETTO:-0500
TZNAME:EST
DTSTART:20221106T060000
END:STANDARD
BEGIN:DAYLIGHT
TZOFFSETFROM:-0500
TZOFFSETTO:-0400
TZNAME:EDT
DTSTART:20230312T070000
END:DAYLIGHT
BEGIN:STANDARD
TZOFFSETFROM:-0400
TZOFFSETTO:-0500
TZNAME:EST
DTSTART:20231105T060000
END:STANDARD
BEGIN:DAYLIGHT
TZOFFSETFROM:-0500
TZOFFSETTO:-0400
TZNAME:EDT
DTSTART:20240310T070000
END:DAYLIGHT
BEGIN:STANDARD
TZOFFSETFROM:-0400
TZOFFSETTO:-0500
TZNAME:EST
DTSTART:20241103T060000
END:STANDARD
BEGIN:DAYLIGHT
TZOFFSETFROM:-0500
TZOFFSETTO:-0400
TZNAME:EDT
DTSTART:20250309T070000
END:DAYLIGHT
BEGIN:STANDARD
TZOFFSETFROM:-0400
TZOFFSETTO:-0500
TZNAME:EST
DTSTART:20251102T060000
END:STANDARD
BEGIN:DAYLIGHT
TZOFFSETFROM:-0500
TZOFFSETTO:-0400
TZNAME:EDT
DTSTART:20260308T070000
END:DAYLIGHT
BEGIN:STANDARD
TZOFFSETFROM:-0400
TZOFFSETTO:-0500
TZNAME:EST
DTSTART:20261101T060000
END:STANDARD
END:VTIMEZONE
BEGIN:VEVENT
DTSTART;VALUE=DATE:20250519
DTEND;VALUE=DATE:20250520
DTSTAMP:20260422T125639
CREATED:20200717T144803Z
LAST-MODIFIED:20200717T144803Z
UID:12833-1747612800-1747699199@projectresponse.org
SUMMARY:National Asian & Pacific Islander HIV/AIDS
DESCRIPTION:
URL:https://projectresponse.org/event/national-asian-pacific-islander-hiv-aids/2025-05-19/
ATTACH;FMTTYPE=image/jpeg:https://projectresponse.org/wp-content/uploads/awareness-banner-asianpacific-1.jpg
END:VEVENT
BEGIN:VEVENT
DTSTART;VALUE=DATE:20240519
DTEND;VALUE=DATE:20240520
DTSTAMP:20260422T125639
CREATED:20200717T144803Z
LAST-MODIFIED:20200717T144803Z
UID:9135-1716076800-1716163199@projectresponse.org
SUMMARY:National Asian & Pacific Islander HIV/AIDS
DESCRIPTION:
URL:https://projectresponse.org/event/national-asian-pacific-islander-hiv-aids/2024-05-19/
ATTACH;FMTTYPE=image/jpeg:https://projectresponse.org/wp-content/uploads/awareness-banner-asianpacific-1.jpg
END:VEVENT
BEGIN:VEVENT
DTSTART;VALUE=DATE:20210519
DTEND;VALUE=DATE:20210520
DTSTAMP:20260422T125639
CREATED:20200717T144803Z
LAST-MODIFIED:20200717T144803Z
UID:5741-1621382400-1621468799@projectresponse.org
SUMMARY:National Asian & Pacific Islander HIV/AIDS
DESCRIPTION:
URL:https://projectresponse.org/event/national-asian-pacific-islander-hiv-aids/2021-05-19/
ATTACH;FMTTYPE=image/jpeg:https://projectresponse.org/wp-content/uploads/awareness-banner-asianpacific-1.jpg
END:VEVENT
END:VCALENDAR