BEGIN:VCALENDAR
VERSION:2.0
PRODID:-//Project Response, Inc - ECPv6.15.20//NONSGML v1.0//EN
CALSCALE:GREGORIAN
METHOD:PUBLISH
X-WR-CALNAME:Project Response, Inc
X-ORIGINAL-URL:https://projectresponse.org
X-WR-CALDESC:Events for Project Response, Inc
REFRESH-INTERVAL;VALUE=DURATION:PT1H
X-Robots-Tag:noindex
X-PUBLISHED-TTL:PT1H
BEGIN:VTIMEZONE
TZID:America/New_York
BEGIN:DAYLIGHT
TZOFFSETFROM:-0500
TZOFFSETTO:-0400
TZNAME:EDT
DTSTART:20200308T070000
END:DAYLIGHT
BEGIN:STANDARD
TZOFFSETFROM:-0400
TZOFFSETTO:-0500
TZNAME:EST
DTSTART:20201101T060000
END:STANDARD
BEGIN:DAYLIGHT
TZOFFSETFROM:-0500
TZOFFSETTO:-0400
TZNAME:EDT
DTSTART:20210314T070000
END:DAYLIGHT
BEGIN:STANDARD
TZOFFSETFROM:-0400
TZOFFSETTO:-0500
TZNAME:EST
DTSTART:20211107T060000
END:STANDARD
BEGIN:DAYLIGHT
TZOFFSETFROM:-0500
TZOFFSETTO:-0400
TZNAME:EDT
DTSTART:20220313T070000
END:DAYLIGHT
BEGIN:STANDARD
TZOFFSETFROM:-0400
TZOFFSETTO:-0500
TZNAME:EST
DTSTART:20221106T060000
END:STANDARD
BEGIN:DAYLIGHT
TZOFFSETFROM:-0500
TZOFFSETTO:-0400
TZNAME:EDT
DTSTART:20230312T070000
END:DAYLIGHT
BEGIN:STANDARD
TZOFFSETFROM:-0400
TZOFFSETTO:-0500
TZNAME:EST
DTSTART:20231105T060000
END:STANDARD
BEGIN:DAYLIGHT
TZOFFSETFROM:-0500
TZOFFSETTO:-0400
TZNAME:EDT
DTSTART:20240310T070000
END:DAYLIGHT
BEGIN:STANDARD
TZOFFSETFROM:-0400
TZOFFSETTO:-0500
TZNAME:EST
DTSTART:20241103T060000
END:STANDARD
BEGIN:DAYLIGHT
TZOFFSETFROM:-0500
TZOFFSETTO:-0400
TZNAME:EDT
DTSTART:20250309T070000
END:DAYLIGHT
BEGIN:STANDARD
TZOFFSETFROM:-0400
TZOFFSETTO:-0500
TZNAME:EST
DTSTART:20251102T060000
END:STANDARD
BEGIN:DAYLIGHT
TZOFFSETFROM:-0500
TZOFFSETTO:-0400
TZNAME:EDT
DTSTART:20260308T070000
END:DAYLIGHT
BEGIN:STANDARD
TZOFFSETFROM:-0400
TZOFFSETTO:-0500
TZNAME:EST
DTSTART:20261101T060000
END:STANDARD
END:VTIMEZONE
BEGIN:VEVENT
DTSTART;VALUE=DATE:20250518
DTEND;VALUE=DATE:20250519
DTSTAMP:20260422T111853
CREATED:20200717T141820Z
LAST-MODIFIED:20200717T141820Z
UID:12837-1747526400-1747612799@projectresponse.org
SUMMARY:HIV Vaccine Awareness
DESCRIPTION:
URL:https://projectresponse.org/event/hiv-vaccine-awareness/2025-05-18/
ATTACH;FMTTYPE=image/jpeg:https://projectresponse.org/wp-content/uploads/awareness-banner-vaccine.jpg
END:VEVENT
BEGIN:VEVENT
DTSTART;VALUE=DATE:20240518
DTEND;VALUE=DATE:20240519
DTSTAMP:20260422T111853
CREATED:20200717T141820Z
LAST-MODIFIED:20200717T141820Z
UID:9134-1715990400-1716076799@projectresponse.org
SUMMARY:HIV Vaccine Awareness
DESCRIPTION:
URL:https://projectresponse.org/event/hiv-vaccine-awareness/2024-05-18/
ATTACH;FMTTYPE=image/jpeg:https://projectresponse.org/wp-content/uploads/awareness-banner-vaccine.jpg
END:VEVENT
BEGIN:VEVENT
DTSTART;VALUE=DATE:20210518
DTEND;VALUE=DATE:20210519
DTSTAMP:20260422T111853
CREATED:20200717T141820Z
LAST-MODIFIED:20200717T141820Z
UID:5737-1621296000-1621382399@projectresponse.org
SUMMARY:HIV Vaccine Awareness
DESCRIPTION:
URL:https://projectresponse.org/event/hiv-vaccine-awareness/2021-05-18/
ATTACH;FMTTYPE=image/jpeg:https://projectresponse.org/wp-content/uploads/awareness-banner-vaccine.jpg
END:VEVENT
END:VCALENDAR