BEGIN:VCALENDAR
VERSION:2.0
PRODID:-//Project Response, Inc - ECPv6.15.20//NONSGML v1.0//EN
CALSCALE:GREGORIAN
METHOD:PUBLISH
X-ORIGINAL-URL:https://projectresponse.org
X-WR-CALDESC:Events for Project Response, Inc
REFRESH-INTERVAL;VALUE=DURATION:PT1H
X-Robots-Tag:noindex
X-PUBLISHED-TTL:PT1H
BEGIN:VTIMEZONE
TZID:America/New_York
BEGIN:DAYLIGHT
TZOFFSETFROM:-0500
TZOFFSETTO:-0400
TZNAME:EDT
DTSTART:20250309T070000
END:DAYLIGHT
BEGIN:STANDARD
TZOFFSETFROM:-0400
TZOFFSETTO:-0500
TZNAME:EST
DTSTART:20251102T060000
END:STANDARD
BEGIN:DAYLIGHT
TZOFFSETFROM:-0500
TZOFFSETTO:-0400
TZNAME:EDT
DTSTART:20260308T070000
END:DAYLIGHT
BEGIN:STANDARD
TZOFFSETFROM:-0400
TZOFFSETTO:-0500
TZNAME:EST
DTSTART:20261101T060000
END:STANDARD
BEGIN:DAYLIGHT
TZOFFSETFROM:-0500
TZOFFSETTO:-0400
TZNAME:EDT
DTSTART:20270314T070000
END:DAYLIGHT
BEGIN:STANDARD
TZOFFSETFROM:-0400
TZOFFSETTO:-0500
TZNAME:EST
DTSTART:20271107T060000
END:STANDARD
END:VTIMEZONE
BEGIN:VEVENT
DTSTART;TZID=America/New_York:20260422T110000
DTEND;TZID=America/New_York:20260422T150000
DTSTAMP:20260422T111229
CREATED:20260402T182207Z
LAST-MODIFIED:20260422T135842Z
UID:12846-1776855600-1776870000@projectresponse.org
SUMMARY:Mobile Health Clinic (Winn-Dixie West Melbourne)
DESCRIPTION:Our mobile health clinic travels throughout Brevard providing free\, confidential health services directly in the community. Services include HIV and Hepatitis C testing\, phlebotomy\, prevention education\, and access to supportive resources and care coordination.\n\nVisitors can expect a professional\, private\, and welcoming experience. Our team is available to answer questions\, provide education on prevention options\, and connect individuals with ongoing care and local services as needed. No appointments are required\, and services are designed to be accessible and convenient.\n\nVisit us during this event to access services\, connect with our team\, and learn more about available resources.
URL:https://projectresponse.org/event/mobile-health-clinic-winn-dixie-west-melbourne/2026-04-22/
LOCATION:Winn-Dixie West Melbourne\, 3170 W New Haven\, West Melbourne\, 32904\, United States
CATEGORIES:Mobile Health Clinic
END:VEVENT
BEGIN:VEVENT
DTSTART;TZID=America/New_York:20260422T140000
DTEND;TZID=America/New_York:20260422T170000
DTSTAMP:20260422T111229
CREATED:20260403T170151Z
LAST-MODIFIED:20260403T170151Z
UID:12858-1776866400-1776877200@projectresponse.org
SUMMARY:Client Advisory Board
DESCRIPTION:
URL:https://projectresponse.org/event/client-advisory-board-3/
LOCATION:Project Response\, 745 S Apollo Blvd\, Melbourne\, 32901
CATEGORIES:Client Events
END:VEVENT
BEGIN:VEVENT
DTSTART;TZID=America/New_York:20260424T090000
DTEND;TZID=America/New_York:20260424T130000
DTSTAMP:20260422T111229
CREATED:20260325T193018Z
LAST-MODIFIED:20260422T134356Z
UID:12715-1777021200-1777035600@projectresponse.org
SUMMARY:Mobile Health Clinic (Sharing Center)
DESCRIPTION:Our mobile health clinic travels throughout Brevard providing free\, confidential health services directly in the community. Services include HIV and Hepatitis C testing\, phlebotomy\, prevention education\, and access to supportive resources and care coordination.\nVisitors can expect a professional\, private\, and welcoming experience. Our team is available to answer questions\, provide education on prevention options\, and connect individuals with ongoing care and local services as needed. No appointments are required\, and services are designed to be accessible and convenient.\nVisit us during this event to access services\, connect with our team\, and learn more about available resources.
URL:https://projectresponse.org/event/mobile-health-clinic-sharing-center/2026-04-24/
CATEGORIES:Mobile Health Clinic
END:VEVENT
BEGIN:VEVENT
DTSTART;TZID=America/New_York:20260424T140000
DTEND;TZID=America/New_York:20260424T190000
DTSTAMP:20260422T111229
CREATED:20260403T170726Z
LAST-MODIFIED:20260403T170726Z
UID:12865-1777039200-1777057200@projectresponse.org
SUMMARY:Project Response CLOSED (Clinic & Case Management)
DESCRIPTION:
URL:https://projectresponse.org/event/project-response-closed-clinic-case-management/
LOCATION:Project Response\, 745 S Apollo Blvd\, Melbourne\, 32901
END:VEVENT
BEGIN:VEVENT
DTSTART;TZID=America/New_York:20260427T110000
DTEND;TZID=America/New_York:20260427T150000
DTSTAMP:20260422T111229
CREATED:20260325T192500Z
LAST-MODIFIED:20260422T134306Z
UID:12701-1777287600-1777302000@projectresponse.org
SUMMARY:Mobile Health Clinic (Empire Pharmacy)
DESCRIPTION:Our mobile health clinic travels throughout Brevard providing free\, confidential health services directly in the community. Services include HIV and Hepatitis C testing\, phlebotomy\, prevention education\, and access to supportive resources and care coordination.\nVisitors can expect a professional\, private\, and welcoming experience. Our team is available to answer questions\, provide education on prevention options\, and connect individuals with ongoing care and local services as needed. No appointments are required\, and services are designed to be accessible and convenient.\nVisit us during this event to access services\, connect with our team\, and learn more about available resources.
URL:https://projectresponse.org/event/mobile-health-clinic-m-empire-pharmacy/2026-04-27/
LOCATION:Empire Pharmacy – Cocoa\, 1451 Dixon Boulevard\, Cocoa\, FL\, 32922\, United States
CATEGORIES:Mobile Health Clinic
END:VEVENT
BEGIN:VEVENT
DTSTART;TZID=America/New_York:20260430T110000
DTEND;TZID=America/New_York:20260430T150000
DTSTAMP:20260422T111229
CREATED:20260325T194912Z
LAST-MODIFIED:20260421T194048Z
UID:12737-1777546800-1777561200@projectresponse.org
SUMMARY:Mobile Health Clinic (Cocoa Beach Community Church)
DESCRIPTION:Our mobile health clinic travels throughout Brevard providing free\, confidential health services directly in the community. Services include HIV and Hepatitis C testing\, phlebotomy\, prevention education\, and access to supportive resources and care coordination.\n\nVisitors can expect a professional\, private\, and welcoming experience. Our team is available to answer questions\, provide education on prevention options\, and connect individuals with ongoing care and local services as needed. No appointments are required\, and services are designed to be accessible and convenient.\n\nVisit us during this event to access services\, connect with our team\, and learn more about available resources.
URL:https://projectresponse.org/event/mobile-health-clinic-cocoa-beach-community-church/2026-04-30/
LOCATION:Cocoa Beach Community Church\, 126 S Atlantic Ave\, Cocoa Beach\, 32931\, United States
CATEGORIES:Mobile Health Clinic
END:VEVENT
END:VCALENDAR